BEGIN:VCALENDAR
VERSION:2.0
PRODID:-//Tillicoultry Baptist Online - ECPv6.15.20//NONSGML v1.0//EN
CALSCALE:GREGORIAN
METHOD:PUBLISH
X-ORIGINAL-URL:https://tillicoultrybaptist.org
X-WR-CALDESC:Events for Tillicoultry Baptist Online
REFRESH-INTERVAL;VALUE=DURATION:PT1H
X-Robots-Tag:noindex
X-PUBLISHED-TTL:PT1H
BEGIN:VTIMEZONE
TZID:Europe/London
BEGIN:DAYLIGHT
TZOFFSETFROM:+0000
TZOFFSETTO:+0100
TZNAME:BST
DTSTART:20240331T010000
END:DAYLIGHT
BEGIN:STANDARD
TZOFFSETFROM:+0100
TZOFFSETTO:+0000
TZNAME:GMT
DTSTART:20241027T010000
END:STANDARD
BEGIN:DAYLIGHT
TZOFFSETFROM:+0000
TZOFFSETTO:+0100
TZNAME:BST
DTSTART:20250330T010000
END:DAYLIGHT
BEGIN:STANDARD
TZOFFSETFROM:+0100
TZOFFSETTO:+0000
TZNAME:GMT
DTSTART:20251026T010000
END:STANDARD
BEGIN:DAYLIGHT
TZOFFSETFROM:+0000
TZOFFSETTO:+0100
TZNAME:BST
DTSTART:20260329T010000
END:DAYLIGHT
BEGIN:STANDARD
TZOFFSETFROM:+0100
TZOFFSETTO:+0000
TZNAME:GMT
DTSTART:20261025T010000
END:STANDARD
END:VTIMEZONE
BEGIN:VEVENT
DTSTART;TZID=Europe/London:20250129T100000
DTEND;TZID=Europe/London:20250129T120000
DTSTAMP:20260420T184720
CREATED:20241204T104100Z
LAST-MODIFIED:20241204T104100Z
UID:10116816-1738144800-1738152000@tillicoultrybaptist.org
SUMMARY:Italian lessons Spring 2025 (Community Event)
DESCRIPTION:
URL:https://tillicoultrybaptist.org/event/italian-lessons-spring-2025-community-event/2025-01-29/
LOCATION:TBC Annexe
CATEGORIES:TBC Annexe
END:VEVENT
BEGIN:VEVENT
DTSTART;TZID=Europe/London:20250129T100000
DTEND;TZID=Europe/London:20250129T123000
DTSTAMP:20260420T184720
CREATED:20250110T111226Z
LAST-MODIFIED:20250627T102709Z
UID:10117010-1738144800-1738153800@tillicoultrybaptist.org
SUMMARY:Tilliwinks
DESCRIPTION:
URL:https://tillicoultrybaptist.org/event/tilliwinks-4-2/2025-01-29/
LOCATION:TBC Church Sanctuary
CATEGORIES:TBC Church Sanctuary
END:VEVENT
BEGIN:VEVENT
DTSTART;TZID=Europe/London:20250129T143000
DTEND;TZID=Europe/London:20250129T163000
DTSTAMP:20260420T184720
CREATED:20231122T110423Z
LAST-MODIFIED:20250625T134358Z
UID:10115874-1738161000-1738168200@tillicoultrybaptist.org
SUMMARY:ChangeGrowLive (Community event)
DESCRIPTION:
URL:https://tillicoultrybaptist.org/event/changegrowlive-2/2025-01-29/
LOCATION:TBC Church Hall
CATEGORIES:TBC Church Hall
END:VEVENT
BEGIN:VEVENT
DTSTART;TZID=Europe/London:20250129T183000
DTEND;TZID=Europe/London:20250129T213000
DTSTAMP:20260420T184720
CREATED:20240502T084428Z
LAST-MODIFIED:20250701T102218Z
UID:10111443-1738175400-1738186200@tillicoultrybaptist.org
SUMMARY:Art evening class (Community event)
DESCRIPTION:
URL:https://tillicoultrybaptist.org/event/art-evening-class-2/2025-01-29/
LOCATION:TBC Annexe
CATEGORIES:TBC Annexe
END:VEVENT
BEGIN:VEVENT
DTSTART;TZID=Europe/London:20250129T194500
DTEND;TZID=Europe/London:20250129T213000
DTSTAMP:20260420T184720
CREATED:20241106T114050Z
LAST-MODIFIED:20250625T133925Z
UID:10116757-1738179900-1738186200@tillicoultrybaptist.org
SUMMARY:Life group
DESCRIPTION:
URL:https://tillicoultrybaptist.org/event/life-group/2025-01-29/
LOCATION:TBC Church Hall
CATEGORIES:TBC Church Hall
END:VEVENT
END:VCALENDAR