BEGIN:VCALENDAR
VERSION:2.0
PRODID:-//Tillicoultry Baptist Online - ECPv6.15.20//NONSGML v1.0//EN
CALSCALE:GREGORIAN
METHOD:PUBLISH
X-WR-CALNAME:Tillicoultry Baptist Online
X-ORIGINAL-URL:https://tillicoultrybaptist.org
X-WR-CALDESC:Events for Tillicoultry Baptist Online
REFRESH-INTERVAL;VALUE=DURATION:PT1H
X-Robots-Tag:noindex
X-PUBLISHED-TTL:PT1H
BEGIN:VTIMEZONE
TZID:Europe/London
BEGIN:DAYLIGHT
TZOFFSETFROM:+0000
TZOFFSETTO:+0100
TZNAME:BST
DTSTART:20260329T010000
END:DAYLIGHT
BEGIN:STANDARD
TZOFFSETFROM:+0100
TZOFFSETTO:+0000
TZNAME:GMT
DTSTART:20261025T010000
END:STANDARD
BEGIN:DAYLIGHT
TZOFFSETFROM:+0000
TZOFFSETTO:+0100
TZNAME:BST
DTSTART:20270328T010000
END:DAYLIGHT
BEGIN:STANDARD
TZOFFSETFROM:+0100
TZOFFSETTO:+0000
TZNAME:GMT
DTSTART:20271031T010000
END:STANDARD
BEGIN:DAYLIGHT
TZOFFSETFROM:+0000
TZOFFSETTO:+0100
TZNAME:BST
DTSTART:20280326T010000
END:DAYLIGHT
BEGIN:STANDARD
TZOFFSETFROM:+0100
TZOFFSETTO:+0000
TZNAME:GMT
DTSTART:20281029T010000
END:STANDARD
END:VTIMEZONE
BEGIN:VEVENT
DTSTART;TZID=Europe/London:20270721T083000
DTEND;TZID=Europe/London:20270721T100000
DTSTAMP:20260424T151654
CREATED:20251221T201242Z
LAST-MODIFIED:20260324T180617Z
UID:10123470-1816158600-1816164000@tillicoultrybaptist.org
SUMMARY:Tilliwinks setup
DESCRIPTION:
URL:https://tillicoultrybaptist.org/event/tilliwinks-setup-3/2027-07-21/
LOCATION:TBC Church Sanctuary
CATEGORIES:TBC Church Hall,TBC Church Sanctuary
END:VEVENT
BEGIN:VEVENT
DTSTART;TZID=Europe/London:20270721T110000
DTEND;TZID=Europe/London:20270721T123000
DTSTAMP:20260424T151654
CREATED:20250903T115742Z
LAST-MODIFIED:20260316T122444Z
UID:10125482-1816167600-1816173000@tillicoultrybaptist.org
SUMMARY:Tilliwinks
DESCRIPTION:
URL:https://tillicoultrybaptist.org/event/tilliwinks-3/2027-07-21/
LOCATION:TBC Church Sanctuary
CATEGORIES:TBC Church Hall,TBC Church Sanctuary
ATTACH;FMTTYPE=image/jpeg:https://tillicoultrybaptist.org/wp-content/uploads/2025-TBC-Web-Event-Toys_01.jpg
END:VEVENT
BEGIN:VEVENT
DTSTART;TZID=Europe/London:20270728T083000
DTEND;TZID=Europe/London:20270728T100000
DTSTAMP:20260424T151654
CREATED:20251221T201242Z
LAST-MODIFIED:20260324T180617Z
UID:10123471-1816763400-1816768800@tillicoultrybaptist.org
SUMMARY:Tilliwinks setup
DESCRIPTION:
URL:https://tillicoultrybaptist.org/event/tilliwinks-setup-3/2027-07-28/
LOCATION:TBC Church Sanctuary
CATEGORIES:TBC Church Hall,TBC Church Sanctuary
END:VEVENT
BEGIN:VEVENT
DTSTART;TZID=Europe/London:20270728T110000
DTEND;TZID=Europe/London:20270728T123000
DTSTAMP:20260424T151654
CREATED:20250903T115742Z
LAST-MODIFIED:20260316T122444Z
UID:10125483-1816772400-1816777800@tillicoultrybaptist.org
SUMMARY:Tilliwinks
DESCRIPTION:
URL:https://tillicoultrybaptist.org/event/tilliwinks-3/2027-07-28/
LOCATION:TBC Church Sanctuary
CATEGORIES:TBC Church Hall,TBC Church Sanctuary
ATTACH;FMTTYPE=image/jpeg:https://tillicoultrybaptist.org/wp-content/uploads/2025-TBC-Web-Event-Toys_01.jpg
END:VEVENT
BEGIN:VEVENT
DTSTART;TZID=Europe/London:20270804T083000
DTEND;TZID=Europe/London:20270804T100000
DTSTAMP:20260424T151654
CREATED:20251221T201242Z
LAST-MODIFIED:20260324T180617Z
UID:10123472-1817368200-1817373600@tillicoultrybaptist.org
SUMMARY:Tilliwinks setup
DESCRIPTION:
URL:https://tillicoultrybaptist.org/event/tilliwinks-setup-3/2027-08-04/
LOCATION:TBC Church Sanctuary
CATEGORIES:TBC Church Hall,TBC Church Sanctuary
END:VEVENT
BEGIN:VEVENT
DTSTART;TZID=Europe/London:20270804T110000
DTEND;TZID=Europe/London:20270804T123000
DTSTAMP:20260424T151654
CREATED:20250903T115742Z
LAST-MODIFIED:20260316T122444Z
UID:10125484-1817377200-1817382600@tillicoultrybaptist.org
SUMMARY:Tilliwinks
DESCRIPTION:
URL:https://tillicoultrybaptist.org/event/tilliwinks-3/2027-08-04/
LOCATION:TBC Church Sanctuary
CATEGORIES:TBC Church Hall,TBC Church Sanctuary
ATTACH;FMTTYPE=image/jpeg:https://tillicoultrybaptist.org/wp-content/uploads/2025-TBC-Web-Event-Toys_01.jpg
END:VEVENT
BEGIN:VEVENT
DTSTART;TZID=Europe/London:20270811T083000
DTEND;TZID=Europe/London:20270811T100000
DTSTAMP:20260424T151654
CREATED:20251221T201242Z
LAST-MODIFIED:20260324T180617Z
UID:10123473-1817973000-1817978400@tillicoultrybaptist.org
SUMMARY:Tilliwinks setup
DESCRIPTION:
URL:https://tillicoultrybaptist.org/event/tilliwinks-setup-3/2027-08-11/
LOCATION:TBC Church Sanctuary
CATEGORIES:TBC Church Hall,TBC Church Sanctuary
END:VEVENT
BEGIN:VEVENT
DTSTART;TZID=Europe/London:20270811T110000
DTEND;TZID=Europe/London:20270811T123000
DTSTAMP:20260424T151654
CREATED:20250903T115742Z
LAST-MODIFIED:20260316T122444Z
UID:10125485-1817982000-1817987400@tillicoultrybaptist.org
SUMMARY:Tilliwinks
DESCRIPTION:
URL:https://tillicoultrybaptist.org/event/tilliwinks-3/2027-08-11/
LOCATION:TBC Church Sanctuary
CATEGORIES:TBC Church Hall,TBC Church Sanctuary
ATTACH;FMTTYPE=image/jpeg:https://tillicoultrybaptist.org/wp-content/uploads/2025-TBC-Web-Event-Toys_01.jpg
END:VEVENT
BEGIN:VEVENT
DTSTART;TZID=Europe/London:20270818T083000
DTEND;TZID=Europe/London:20270818T100000
DTSTAMP:20260424T151654
CREATED:20251221T201242Z
LAST-MODIFIED:20260324T180617Z
UID:10123474-1818577800-1818583200@tillicoultrybaptist.org
SUMMARY:Tilliwinks setup
DESCRIPTION:
URL:https://tillicoultrybaptist.org/event/tilliwinks-setup-3/2027-08-18/
LOCATION:TBC Church Sanctuary
CATEGORIES:TBC Church Hall,TBC Church Sanctuary
END:VEVENT
BEGIN:VEVENT
DTSTART;TZID=Europe/London:20270818T110000
DTEND;TZID=Europe/London:20270818T123000
DTSTAMP:20260424T151654
CREATED:20250903T115742Z
LAST-MODIFIED:20260316T122444Z
UID:10125486-1818586800-1818592200@tillicoultrybaptist.org
SUMMARY:Tilliwinks
DESCRIPTION:
URL:https://tillicoultrybaptist.org/event/tilliwinks-3/2027-08-18/
LOCATION:TBC Church Sanctuary
CATEGORIES:TBC Church Hall,TBC Church Sanctuary
ATTACH;FMTTYPE=image/jpeg:https://tillicoultrybaptist.org/wp-content/uploads/2025-TBC-Web-Event-Toys_01.jpg
END:VEVENT
BEGIN:VEVENT
DTSTART;TZID=Europe/London:20270825T083000
DTEND;TZID=Europe/London:20270825T100000
DTSTAMP:20260424T151654
CREATED:20251221T201242Z
LAST-MODIFIED:20260324T180617Z
UID:10123475-1819182600-1819188000@tillicoultrybaptist.org
SUMMARY:Tilliwinks setup
DESCRIPTION:
URL:https://tillicoultrybaptist.org/event/tilliwinks-setup-3/2027-08-25/
LOCATION:TBC Church Sanctuary
CATEGORIES:TBC Church Hall,TBC Church Sanctuary
END:VEVENT
BEGIN:VEVENT
DTSTART;TZID=Europe/London:20270825T110000
DTEND;TZID=Europe/London:20270825T123000
DTSTAMP:20260424T151654
CREATED:20250903T115742Z
LAST-MODIFIED:20260316T122444Z
UID:10125487-1819191600-1819197000@tillicoultrybaptist.org
SUMMARY:Tilliwinks
DESCRIPTION:
URL:https://tillicoultrybaptist.org/event/tilliwinks-3/2027-08-25/
LOCATION:TBC Church Sanctuary
CATEGORIES:TBC Church Hall,TBC Church Sanctuary
ATTACH;FMTTYPE=image/jpeg:https://tillicoultrybaptist.org/wp-content/uploads/2025-TBC-Web-Event-Toys_01.jpg
END:VEVENT
BEGIN:VEVENT
DTSTART;TZID=Europe/London:20270901T083000
DTEND;TZID=Europe/London:20270901T100000
DTSTAMP:20260424T151654
CREATED:20251221T201242Z
LAST-MODIFIED:20260324T180617Z
UID:10123476-1819787400-1819792800@tillicoultrybaptist.org
SUMMARY:Tilliwinks setup
DESCRIPTION:
URL:https://tillicoultrybaptist.org/event/tilliwinks-setup-3/2027-09-01/
LOCATION:TBC Church Sanctuary
CATEGORIES:TBC Church Hall,TBC Church Sanctuary
END:VEVENT
BEGIN:VEVENT
DTSTART;TZID=Europe/London:20270901T110000
DTEND;TZID=Europe/London:20270901T123000
DTSTAMP:20260424T151654
CREATED:20250903T115742Z
LAST-MODIFIED:20260316T122444Z
UID:10125488-1819796400-1819801800@tillicoultrybaptist.org
SUMMARY:Tilliwinks
DESCRIPTION:
URL:https://tillicoultrybaptist.org/event/tilliwinks-3/2027-09-01/
LOCATION:TBC Church Sanctuary
CATEGORIES:TBC Church Hall,TBC Church Sanctuary
ATTACH;FMTTYPE=image/jpeg:https://tillicoultrybaptist.org/wp-content/uploads/2025-TBC-Web-Event-Toys_01.jpg
END:VEVENT
BEGIN:VEVENT
DTSTART;TZID=Europe/London:20270908T083000
DTEND;TZID=Europe/London:20270908T100000
DTSTAMP:20260424T151654
CREATED:20251221T201242Z
LAST-MODIFIED:20260324T180617Z
UID:10123477-1820392200-1820397600@tillicoultrybaptist.org
SUMMARY:Tilliwinks setup
DESCRIPTION:
URL:https://tillicoultrybaptist.org/event/tilliwinks-setup-3/2027-09-08/
LOCATION:TBC Church Sanctuary
CATEGORIES:TBC Church Hall,TBC Church Sanctuary
END:VEVENT
BEGIN:VEVENT
DTSTART;TZID=Europe/London:20270908T110000
DTEND;TZID=Europe/London:20270908T123000
DTSTAMP:20260424T151654
CREATED:20250903T115742Z
LAST-MODIFIED:20260316T122444Z
UID:10125489-1820401200-1820406600@tillicoultrybaptist.org
SUMMARY:Tilliwinks
DESCRIPTION:
URL:https://tillicoultrybaptist.org/event/tilliwinks-3/2027-09-08/
LOCATION:TBC Church Sanctuary
CATEGORIES:TBC Church Hall,TBC Church Sanctuary
ATTACH;FMTTYPE=image/jpeg:https://tillicoultrybaptist.org/wp-content/uploads/2025-TBC-Web-Event-Toys_01.jpg
END:VEVENT
BEGIN:VEVENT
DTSTART;TZID=Europe/London:20270915T083000
DTEND;TZID=Europe/London:20270915T100000
DTSTAMP:20260424T151654
CREATED:20251221T201242Z
LAST-MODIFIED:20260324T180617Z
UID:10123478-1820997000-1821002400@tillicoultrybaptist.org
SUMMARY:Tilliwinks setup
DESCRIPTION:
URL:https://tillicoultrybaptist.org/event/tilliwinks-setup-3/2027-09-15/
LOCATION:TBC Church Sanctuary
CATEGORIES:TBC Church Hall,TBC Church Sanctuary
END:VEVENT
BEGIN:VEVENT
DTSTART;TZID=Europe/London:20270915T110000
DTEND;TZID=Europe/London:20270915T123000
DTSTAMP:20260424T151654
CREATED:20250903T115742Z
LAST-MODIFIED:20260316T122444Z
UID:10125490-1821006000-1821011400@tillicoultrybaptist.org
SUMMARY:Tilliwinks
DESCRIPTION:
URL:https://tillicoultrybaptist.org/event/tilliwinks-3/2027-09-15/
LOCATION:TBC Church Sanctuary
CATEGORIES:TBC Church Hall,TBC Church Sanctuary
ATTACH;FMTTYPE=image/jpeg:https://tillicoultrybaptist.org/wp-content/uploads/2025-TBC-Web-Event-Toys_01.jpg
END:VEVENT
BEGIN:VEVENT
DTSTART;TZID=Europe/London:20270922T083000
DTEND;TZID=Europe/London:20270922T100000
DTSTAMP:20260424T151654
CREATED:20251221T201242Z
LAST-MODIFIED:20260324T180617Z
UID:10123479-1821601800-1821607200@tillicoultrybaptist.org
SUMMARY:Tilliwinks setup
DESCRIPTION:
URL:https://tillicoultrybaptist.org/event/tilliwinks-setup-3/2027-09-22/
LOCATION:TBC Church Sanctuary
CATEGORIES:TBC Church Hall,TBC Church Sanctuary
END:VEVENT
BEGIN:VEVENT
DTSTART;TZID=Europe/London:20270922T110000
DTEND;TZID=Europe/London:20270922T123000
DTSTAMP:20260424T151654
CREATED:20250903T115742Z
LAST-MODIFIED:20260316T122444Z
UID:10125491-1821610800-1821616200@tillicoultrybaptist.org
SUMMARY:Tilliwinks
DESCRIPTION:
URL:https://tillicoultrybaptist.org/event/tilliwinks-3/2027-09-22/
LOCATION:TBC Church Sanctuary
CATEGORIES:TBC Church Hall,TBC Church Sanctuary
ATTACH;FMTTYPE=image/jpeg:https://tillicoultrybaptist.org/wp-content/uploads/2025-TBC-Web-Event-Toys_01.jpg
END:VEVENT
BEGIN:VEVENT
DTSTART;TZID=Europe/London:20270929T083000
DTEND;TZID=Europe/London:20270929T100000
DTSTAMP:20260424T151654
CREATED:20251221T201242Z
LAST-MODIFIED:20260324T180617Z
UID:10123480-1822206600-1822212000@tillicoultrybaptist.org
SUMMARY:Tilliwinks setup
DESCRIPTION:
URL:https://tillicoultrybaptist.org/event/tilliwinks-setup-3/2027-09-29/
LOCATION:TBC Church Sanctuary
CATEGORIES:TBC Church Hall,TBC Church Sanctuary
END:VEVENT
BEGIN:VEVENT
DTSTART;TZID=Europe/London:20270929T110000
DTEND;TZID=Europe/London:20270929T123000
DTSTAMP:20260424T151654
CREATED:20250903T115742Z
LAST-MODIFIED:20260316T122444Z
UID:10125492-1822215600-1822221000@tillicoultrybaptist.org
SUMMARY:Tilliwinks
DESCRIPTION:
URL:https://tillicoultrybaptist.org/event/tilliwinks-3/2027-09-29/
LOCATION:TBC Church Sanctuary
CATEGORIES:TBC Church Hall,TBC Church Sanctuary
ATTACH;FMTTYPE=image/jpeg:https://tillicoultrybaptist.org/wp-content/uploads/2025-TBC-Web-Event-Toys_01.jpg
END:VEVENT
BEGIN:VEVENT
DTSTART;TZID=Europe/London:20271006T083000
DTEND;TZID=Europe/London:20271006T100000
DTSTAMP:20260424T151654
CREATED:20251221T201242Z
LAST-MODIFIED:20260324T180617Z
UID:10123481-1822811400-1822816800@tillicoultrybaptist.org
SUMMARY:Tilliwinks setup
DESCRIPTION:
URL:https://tillicoultrybaptist.org/event/tilliwinks-setup-3/2027-10-06/
LOCATION:TBC Church Sanctuary
CATEGORIES:TBC Church Hall,TBC Church Sanctuary
END:VEVENT
BEGIN:VEVENT
DTSTART;TZID=Europe/London:20271006T110000
DTEND;TZID=Europe/London:20271006T123000
DTSTAMP:20260424T151654
CREATED:20250903T115742Z
LAST-MODIFIED:20260316T122444Z
UID:10125493-1822820400-1822825800@tillicoultrybaptist.org
SUMMARY:Tilliwinks
DESCRIPTION:
URL:https://tillicoultrybaptist.org/event/tilliwinks-3/2027-10-06/
LOCATION:TBC Church Sanctuary
CATEGORIES:TBC Church Hall,TBC Church Sanctuary
ATTACH;FMTTYPE=image/jpeg:https://tillicoultrybaptist.org/wp-content/uploads/2025-TBC-Web-Event-Toys_01.jpg
END:VEVENT
BEGIN:VEVENT
DTSTART;TZID=Europe/London:20271013T083000
DTEND;TZID=Europe/London:20271013T100000
DTSTAMP:20260424T151654
CREATED:20251221T201242Z
LAST-MODIFIED:20260324T180617Z
UID:10123482-1823416200-1823421600@tillicoultrybaptist.org
SUMMARY:Tilliwinks setup
DESCRIPTION:
URL:https://tillicoultrybaptist.org/event/tilliwinks-setup-3/2027-10-13/
LOCATION:TBC Church Sanctuary
CATEGORIES:TBC Church Hall,TBC Church Sanctuary
END:VEVENT
BEGIN:VEVENT
DTSTART;TZID=Europe/London:20271013T110000
DTEND;TZID=Europe/London:20271013T123000
DTSTAMP:20260424T151654
CREATED:20250903T115742Z
LAST-MODIFIED:20260316T122444Z
UID:10125494-1823425200-1823430600@tillicoultrybaptist.org
SUMMARY:Tilliwinks
DESCRIPTION:
URL:https://tillicoultrybaptist.org/event/tilliwinks-3/2027-10-13/
LOCATION:TBC Church Sanctuary
CATEGORIES:TBC Church Hall,TBC Church Sanctuary
ATTACH;FMTTYPE=image/jpeg:https://tillicoultrybaptist.org/wp-content/uploads/2025-TBC-Web-Event-Toys_01.jpg
END:VEVENT
BEGIN:VEVENT
DTSTART;TZID=Europe/London:20271020T083000
DTEND;TZID=Europe/London:20271020T100000
DTSTAMP:20260424T151654
CREATED:20251221T201242Z
LAST-MODIFIED:20260324T180617Z
UID:10123483-1824021000-1824026400@tillicoultrybaptist.org
SUMMARY:Tilliwinks setup
DESCRIPTION:
URL:https://tillicoultrybaptist.org/event/tilliwinks-setup-3/2027-10-20/
LOCATION:TBC Church Sanctuary
CATEGORIES:TBC Church Hall,TBC Church Sanctuary
END:VEVENT
BEGIN:VEVENT
DTSTART;TZID=Europe/London:20271020T110000
DTEND;TZID=Europe/London:20271020T123000
DTSTAMP:20260424T151654
CREATED:20250903T115742Z
LAST-MODIFIED:20260316T122444Z
UID:10125495-1824030000-1824035400@tillicoultrybaptist.org
SUMMARY:Tilliwinks
DESCRIPTION:
URL:https://tillicoultrybaptist.org/event/tilliwinks-3/2027-10-20/
LOCATION:TBC Church Sanctuary
CATEGORIES:TBC Church Hall,TBC Church Sanctuary
ATTACH;FMTTYPE=image/jpeg:https://tillicoultrybaptist.org/wp-content/uploads/2025-TBC-Web-Event-Toys_01.jpg
END:VEVENT
BEGIN:VEVENT
DTSTART;TZID=Europe/London:20271027T083000
DTEND;TZID=Europe/London:20271027T100000
DTSTAMP:20260424T151654
CREATED:20251221T201242Z
LAST-MODIFIED:20260324T180617Z
UID:10123484-1824625800-1824631200@tillicoultrybaptist.org
SUMMARY:Tilliwinks setup
DESCRIPTION:
URL:https://tillicoultrybaptist.org/event/tilliwinks-setup-3/2027-10-27/
LOCATION:TBC Church Sanctuary
CATEGORIES:TBC Church Hall,TBC Church Sanctuary
END:VEVENT
BEGIN:VEVENT
DTSTART;TZID=Europe/London:20271027T110000
DTEND;TZID=Europe/London:20271027T123000
DTSTAMP:20260424T151654
CREATED:20250903T115742Z
LAST-MODIFIED:20260316T122444Z
UID:10125496-1824634800-1824640200@tillicoultrybaptist.org
SUMMARY:Tilliwinks
DESCRIPTION:
URL:https://tillicoultrybaptist.org/event/tilliwinks-3/2027-10-27/
LOCATION:TBC Church Sanctuary
CATEGORIES:TBC Church Hall,TBC Church Sanctuary
ATTACH;FMTTYPE=image/jpeg:https://tillicoultrybaptist.org/wp-content/uploads/2025-TBC-Web-Event-Toys_01.jpg
END:VEVENT
END:VCALENDAR