BEGIN:VCALENDAR
VERSION:2.0
PRODID:-//Tillicoultry Baptist Online - ECPv6.15.20//NONSGML v1.0//EN
CALSCALE:GREGORIAN
METHOD:PUBLISH
X-ORIGINAL-URL:https://tillicoultrybaptist.org
X-WR-CALDESC:Events for Tillicoultry Baptist Online
REFRESH-INTERVAL;VALUE=DURATION:PT1H
X-Robots-Tag:noindex
X-PUBLISHED-TTL:PT1H
BEGIN:VTIMEZONE
TZID:Europe/London
BEGIN:DAYLIGHT
TZOFFSETFROM:+0000
TZOFFSETTO:+0100
TZNAME:BST
DTSTART:20250330T010000
END:DAYLIGHT
BEGIN:STANDARD
TZOFFSETFROM:+0100
TZOFFSETTO:+0000
TZNAME:GMT
DTSTART:20251026T010000
END:STANDARD
BEGIN:DAYLIGHT
TZOFFSETFROM:+0000
TZOFFSETTO:+0100
TZNAME:BST
DTSTART:20260329T010000
END:DAYLIGHT
BEGIN:STANDARD
TZOFFSETFROM:+0100
TZOFFSETTO:+0000
TZNAME:GMT
DTSTART:20261025T010000
END:STANDARD
BEGIN:DAYLIGHT
TZOFFSETFROM:+0000
TZOFFSETTO:+0100
TZNAME:BST
DTSTART:20270328T010000
END:DAYLIGHT
BEGIN:STANDARD
TZOFFSETFROM:+0100
TZOFFSETTO:+0000
TZNAME:GMT
DTSTART:20271031T010000
END:STANDARD
END:VTIMEZONE
BEGIN:VEVENT
DTSTART;TZID=Europe/London:20260422T083000
DTEND;TZID=Europe/London:20260422T100000
DTSTAMP:20260423T015218
CREATED:20251221T201242Z
LAST-MODIFIED:20260324T180617Z
UID:10123405-1776846600-1776852000@tillicoultrybaptist.org
SUMMARY:Tilliwinks setup
DESCRIPTION:
URL:https://tillicoultrybaptist.org/event/tilliwinks-setup-3/2026-04-22/
LOCATION:TBC Church Sanctuary
CATEGORIES:TBC Church Hall,TBC Church Sanctuary
END:VEVENT
BEGIN:VEVENT
DTSTART;TZID=Europe/London:20260422T110000
DTEND;TZID=Europe/London:20260422T123000
DTSTAMP:20260423T015218
CREATED:20250903T115742Z
LAST-MODIFIED:20260316T122444Z
UID:10125423-1776855600-1776861000@tillicoultrybaptist.org
SUMMARY:Tilliwinks
DESCRIPTION:
URL:https://tillicoultrybaptist.org/event/tilliwinks-3/2026-04-22/
LOCATION:TBC Church Sanctuary
CATEGORIES:TBC Church Hall,TBC Church Sanctuary
ATTACH;FMTTYPE=image/jpeg:https://tillicoultrybaptist.org/wp-content/uploads/2025-TBC-Web-Event-Toys_01.jpg
END:VEVENT
BEGIN:VEVENT
DTSTART;TZID=Europe/London:20260422T140000
DTEND;TZID=Europe/London:20260422T180000
DTSTAMP:20260423T015218
CREATED:20260206T103322Z
LAST-MODIFIED:20260310T144033Z
UID:10125675-1776866400-1776880800@tillicoultrybaptist.org
SUMMARY:OYCI - After School Care
DESCRIPTION:
URL:https://tillicoultrybaptist.org/event/oyci-after-school-care/2026-04-22/
LOCATION:TBC Church Hall
CATEGORIES:TBC Church Hall,TBC Church Sanctuary
END:VEVENT
BEGIN:VEVENT
DTSTART;TZID=Europe/London:20260425T093000
DTEND;TZID=Europe/London:20260425T140000
DTSTAMP:20260423T015218
CREATED:20260409T103524Z
LAST-MODIFIED:20260409T103524Z
UID:10126587-1777109400-1777125600@tillicoultrybaptist.org
SUMMARY:Elders & MLs meeting
DESCRIPTION:
URL:https://tillicoultrybaptist.org/event/elders-mls-meeting/
LOCATION:TBC Church Hall
CATEGORIES:TBC Church Hall
END:VEVENT
BEGIN:VEVENT
DTSTART;TZID=Europe/London:20260426T183000
DTEND;TZID=Europe/London:20260426T210000
DTSTAMP:20260423T015218
CREATED:20250917T095922Z
LAST-MODIFIED:20260418T091056Z
UID:10126970-1777228200-1777237200@tillicoultrybaptist.org
SUMMARY:Youth night
DESCRIPTION:
URL:https://tillicoultrybaptist.org/event/youth-night-7/2026-04-26/
LOCATION:TBC Church Sanctuary
CATEGORIES:TBC Church Hall,TBC Church Sanctuary
END:VEVENT
END:VCALENDAR