BEGIN:VCALENDAR
VERSION:2.0
PRODID:-//Tillicoultry Baptist Online - ECPv6.15.20//NONSGML v1.0//EN
CALSCALE:GREGORIAN
METHOD:PUBLISH
X-WR-CALNAME:Tillicoultry Baptist Online
X-ORIGINAL-URL:https://tillicoultrybaptist.org
X-WR-CALDESC:Events for Tillicoultry Baptist Online
REFRESH-INTERVAL;VALUE=DURATION:PT1H
X-Robots-Tag:noindex
X-PUBLISHED-TTL:PT1H
BEGIN:VTIMEZONE
TZID:Europe/London
BEGIN:DAYLIGHT
TZOFFSETFROM:+0000
TZOFFSETTO:+0100
TZNAME:BST
DTSTART:20250330T010000
END:DAYLIGHT
BEGIN:STANDARD
TZOFFSETFROM:+0100
TZOFFSETTO:+0000
TZNAME:GMT
DTSTART:20251026T010000
END:STANDARD
BEGIN:DAYLIGHT
TZOFFSETFROM:+0000
TZOFFSETTO:+0100
TZNAME:BST
DTSTART:20260329T010000
END:DAYLIGHT
BEGIN:STANDARD
TZOFFSETFROM:+0100
TZOFFSETTO:+0000
TZNAME:GMT
DTSTART:20261025T010000
END:STANDARD
BEGIN:DAYLIGHT
TZOFFSETFROM:+0000
TZOFFSETTO:+0100
TZNAME:BST
DTSTART:20270328T010000
END:DAYLIGHT
BEGIN:STANDARD
TZOFFSETFROM:+0100
TZOFFSETTO:+0000
TZNAME:GMT
DTSTART:20271031T010000
END:STANDARD
BEGIN:DAYLIGHT
TZOFFSETFROM:+0000
TZOFFSETTO:+0100
TZNAME:BST
DTSTART:20280326T010000
END:DAYLIGHT
BEGIN:STANDARD
TZOFFSETFROM:+0100
TZOFFSETTO:+0000
TZNAME:GMT
DTSTART:20281029T010000
END:STANDARD
END:VTIMEZONE
BEGIN:VEVENT
DTSTART;TZID=Europe/London:20260429T180000
DTEND;TZID=Europe/London:20260429T210000
DTSTAMP:20260423T141606
CREATED:20250915T132624Z
LAST-MODIFIED:20260403T093040Z
UID:10122654-1777485600-1777496400@tillicoultrybaptist.org
SUMMARY:Art evening class (Community event)
DESCRIPTION:
URL:https://tillicoultrybaptist.org/event/art-evening-class-2-2/2026-04-29/
LOCATION:TBC Annexe
CATEGORIES:TBC Annexe
ATTACH;FMTTYPE=image/jpeg:https://tillicoultrybaptist.org/wp-content/uploads/2025-TBC-Web-Event-Art_01.jpg
END:VEVENT
BEGIN:VEVENT
DTSTART;TZID=Europe/London:20260909T080000
DTEND;TZID=Europe/London:20260909T170000
DTSTAMP:20260423T141606
CREATED:20260403T093217Z
LAST-MODIFIED:20260422T130730Z
UID:10127037-1788940800-1788973200@tillicoultrybaptist.org
SUMMARY:Art evening class (Community event)
DESCRIPTION:
URL:https://tillicoultrybaptist.org/event/art-evening-class-community-event/2026-09-09/1/
LOCATION:TBC Annexe
CATEGORIES:TBC Annexe
ATTACH;FMTTYPE=image/jpeg:https://tillicoultrybaptist.org/wp-content/uploads/2025-TBC-Web-Event-Art_01.jpg
END:VEVENT
BEGIN:VEVENT
DTSTART;TZID=Europe/London:20260909T180000
DTEND;TZID=Europe/London:20260909T210000
DTSTAMP:20260423T141606
CREATED:20260403T093217Z
LAST-MODIFIED:20260422T130730Z
UID:10126156-1788976800-1788987600@tillicoultrybaptist.org
SUMMARY:Art evening class (Community event)
DESCRIPTION:
URL:https://tillicoultrybaptist.org/event/art-evening-class-community-event/2026-09-09/2/
LOCATION:TBC Annexe
CATEGORIES:TBC Annexe
ATTACH;FMTTYPE=image/jpeg:https://tillicoultrybaptist.org/wp-content/uploads/2025-TBC-Web-Event-Art_01.jpg
END:VEVENT
BEGIN:VEVENT
DTSTART;TZID=Europe/London:20260916T180000
DTEND;TZID=Europe/London:20260916T210000
DTSTAMP:20260423T141606
CREATED:20260403T093217Z
LAST-MODIFIED:20260422T130730Z
UID:10126157-1789581600-1789592400@tillicoultrybaptist.org
SUMMARY:Art evening class (Community event)
DESCRIPTION:
URL:https://tillicoultrybaptist.org/event/art-evening-class-community-event/2026-09-16/
LOCATION:TBC Annexe
CATEGORIES:TBC Annexe
ATTACH;FMTTYPE=image/jpeg:https://tillicoultrybaptist.org/wp-content/uploads/2025-TBC-Web-Event-Art_01.jpg
END:VEVENT
BEGIN:VEVENT
DTSTART;TZID=Europe/London:20260923T180000
DTEND;TZID=Europe/London:20260923T210000
DTSTAMP:20260423T141606
CREATED:20260403T093217Z
LAST-MODIFIED:20260422T130730Z
UID:10126158-1790186400-1790197200@tillicoultrybaptist.org
SUMMARY:Art evening class (Community event)
DESCRIPTION:
URL:https://tillicoultrybaptist.org/event/art-evening-class-community-event/2026-09-23/
LOCATION:TBC Annexe
CATEGORIES:TBC Annexe
ATTACH;FMTTYPE=image/jpeg:https://tillicoultrybaptist.org/wp-content/uploads/2025-TBC-Web-Event-Art_01.jpg
END:VEVENT
BEGIN:VEVENT
DTSTART;TZID=Europe/London:20260930T180000
DTEND;TZID=Europe/London:20260930T210000
DTSTAMP:20260423T141606
CREATED:20260403T093217Z
LAST-MODIFIED:20260422T130730Z
UID:10126159-1790791200-1790802000@tillicoultrybaptist.org
SUMMARY:Art evening class (Community event)
DESCRIPTION:
URL:https://tillicoultrybaptist.org/event/art-evening-class-community-event/2026-09-30/
LOCATION:TBC Annexe
CATEGORIES:TBC Annexe
ATTACH;FMTTYPE=image/jpeg:https://tillicoultrybaptist.org/wp-content/uploads/2025-TBC-Web-Event-Art_01.jpg
END:VEVENT
BEGIN:VEVENT
DTSTART;TZID=Europe/London:20261007T180000
DTEND;TZID=Europe/London:20261007T210000
DTSTAMP:20260423T141606
CREATED:20260403T093217Z
LAST-MODIFIED:20260422T130730Z
UID:10126160-1791396000-1791406800@tillicoultrybaptist.org
SUMMARY:Art evening class (Community event)
DESCRIPTION:
URL:https://tillicoultrybaptist.org/event/art-evening-class-community-event/2026-10-07/
LOCATION:TBC Annexe
CATEGORIES:TBC Annexe
ATTACH;FMTTYPE=image/jpeg:https://tillicoultrybaptist.org/wp-content/uploads/2025-TBC-Web-Event-Art_01.jpg
END:VEVENT
BEGIN:VEVENT
DTSTART;TZID=Europe/London:20261014T180000
DTEND;TZID=Europe/London:20261014T210000
DTSTAMP:20260423T141606
CREATED:20260403T093217Z
LAST-MODIFIED:20260422T130730Z
UID:10126161-1792000800-1792011600@tillicoultrybaptist.org
SUMMARY:Art evening class (Community event)
DESCRIPTION:
URL:https://tillicoultrybaptist.org/event/art-evening-class-community-event/2026-10-14/
LOCATION:TBC Annexe
CATEGORIES:TBC Annexe
ATTACH;FMTTYPE=image/jpeg:https://tillicoultrybaptist.org/wp-content/uploads/2025-TBC-Web-Event-Art_01.jpg
END:VEVENT
BEGIN:VEVENT
DTSTART;TZID=Europe/London:20261021T180000
DTEND;TZID=Europe/London:20261021T210000
DTSTAMP:20260423T141606
CREATED:20260403T093217Z
LAST-MODIFIED:20260422T130730Z
UID:10126162-1792605600-1792616400@tillicoultrybaptist.org
SUMMARY:Art evening class (Community event)
DESCRIPTION:
URL:https://tillicoultrybaptist.org/event/art-evening-class-community-event/2026-10-21/
LOCATION:TBC Annexe
CATEGORIES:TBC Annexe
ATTACH;FMTTYPE=image/jpeg:https://tillicoultrybaptist.org/wp-content/uploads/2025-TBC-Web-Event-Art_01.jpg
END:VEVENT
BEGIN:VEVENT
DTSTART;TZID=Europe/London:20261028T180000
DTEND;TZID=Europe/London:20261028T210000
DTSTAMP:20260423T141606
CREATED:20260403T093217Z
LAST-MODIFIED:20260422T130730Z
UID:10126163-1793210400-1793221200@tillicoultrybaptist.org
SUMMARY:Art evening class (Community event)
DESCRIPTION:
URL:https://tillicoultrybaptist.org/event/art-evening-class-community-event/2026-10-28/
LOCATION:TBC Annexe
CATEGORIES:TBC Annexe
ATTACH;FMTTYPE=image/jpeg:https://tillicoultrybaptist.org/wp-content/uploads/2025-TBC-Web-Event-Art_01.jpg
END:VEVENT
BEGIN:VEVENT
DTSTART;TZID=Europe/London:20261104T180000
DTEND;TZID=Europe/London:20261104T210000
DTSTAMP:20260423T141606
CREATED:20260403T093217Z
LAST-MODIFIED:20260422T130730Z
UID:10126164-1793815200-1793826000@tillicoultrybaptist.org
SUMMARY:Art evening class (Community event)
DESCRIPTION:
URL:https://tillicoultrybaptist.org/event/art-evening-class-community-event/2026-11-04/
LOCATION:TBC Annexe
CATEGORIES:TBC Annexe
ATTACH;FMTTYPE=image/jpeg:https://tillicoultrybaptist.org/wp-content/uploads/2025-TBC-Web-Event-Art_01.jpg
END:VEVENT
BEGIN:VEVENT
DTSTART;TZID=Europe/London:20261111T180000
DTEND;TZID=Europe/London:20261111T210000
DTSTAMP:20260423T141606
CREATED:20260403T093217Z
LAST-MODIFIED:20260422T130730Z
UID:10126165-1794420000-1794430800@tillicoultrybaptist.org
SUMMARY:Art evening class (Community event)
DESCRIPTION:
URL:https://tillicoultrybaptist.org/event/art-evening-class-community-event/2026-11-11/
LOCATION:TBC Annexe
CATEGORIES:TBC Annexe
ATTACH;FMTTYPE=image/jpeg:https://tillicoultrybaptist.org/wp-content/uploads/2025-TBC-Web-Event-Art_01.jpg
END:VEVENT
BEGIN:VEVENT
DTSTART;TZID=Europe/London:20261118T180000
DTEND;TZID=Europe/London:20261118T210000
DTSTAMP:20260423T141606
CREATED:20260403T093217Z
LAST-MODIFIED:20260422T130730Z
UID:10126166-1795024800-1795035600@tillicoultrybaptist.org
SUMMARY:Art evening class (Community event)
DESCRIPTION:
URL:https://tillicoultrybaptist.org/event/art-evening-class-community-event/2026-11-18/
LOCATION:TBC Annexe
CATEGORIES:TBC Annexe
ATTACH;FMTTYPE=image/jpeg:https://tillicoultrybaptist.org/wp-content/uploads/2025-TBC-Web-Event-Art_01.jpg
END:VEVENT
BEGIN:VEVENT
DTSTART;TZID=Europe/London:20261125T180000
DTEND;TZID=Europe/London:20261125T210000
DTSTAMP:20260423T141606
CREATED:20260403T093217Z
LAST-MODIFIED:20260422T130730Z
UID:10126167-1795629600-1795640400@tillicoultrybaptist.org
SUMMARY:Art evening class (Community event)
DESCRIPTION:
URL:https://tillicoultrybaptist.org/event/art-evening-class-community-event/2026-11-25/
LOCATION:TBC Annexe
CATEGORIES:TBC Annexe
ATTACH;FMTTYPE=image/jpeg:https://tillicoultrybaptist.org/wp-content/uploads/2025-TBC-Web-Event-Art_01.jpg
END:VEVENT
BEGIN:VEVENT
DTSTART;TZID=Europe/London:20261202T180000
DTEND;TZID=Europe/London:20261202T210000
DTSTAMP:20260423T141606
CREATED:20260403T093217Z
LAST-MODIFIED:20260422T130730Z
UID:10126168-1796234400-1796245200@tillicoultrybaptist.org
SUMMARY:Art evening class (Community event)
DESCRIPTION:
URL:https://tillicoultrybaptist.org/event/art-evening-class-community-event/2026-12-02/
LOCATION:TBC Annexe
CATEGORIES:TBC Annexe
ATTACH;FMTTYPE=image/jpeg:https://tillicoultrybaptist.org/wp-content/uploads/2025-TBC-Web-Event-Art_01.jpg
END:VEVENT
BEGIN:VEVENT
DTSTART;TZID=Europe/London:20261209T180000
DTEND;TZID=Europe/London:20261209T210000
DTSTAMP:20260423T141606
CREATED:20260403T093217Z
LAST-MODIFIED:20260422T130730Z
UID:10126169-1796839200-1796850000@tillicoultrybaptist.org
SUMMARY:Art evening class (Community event)
DESCRIPTION:
URL:https://tillicoultrybaptist.org/event/art-evening-class-community-event/2026-12-09/
LOCATION:TBC Annexe
CATEGORIES:TBC Annexe
ATTACH;FMTTYPE=image/jpeg:https://tillicoultrybaptist.org/wp-content/uploads/2025-TBC-Web-Event-Art_01.jpg
END:VEVENT
BEGIN:VEVENT
DTSTART;TZID=Europe/London:20261216T180000
DTEND;TZID=Europe/London:20261216T210000
DTSTAMP:20260423T141606
CREATED:20260403T093217Z
LAST-MODIFIED:20260422T130730Z
UID:10126170-1797444000-1797454800@tillicoultrybaptist.org
SUMMARY:Art evening class (Community event)
DESCRIPTION:
URL:https://tillicoultrybaptist.org/event/art-evening-class-community-event/2026-12-16/
LOCATION:TBC Annexe
CATEGORIES:TBC Annexe
ATTACH;FMTTYPE=image/jpeg:https://tillicoultrybaptist.org/wp-content/uploads/2025-TBC-Web-Event-Art_01.jpg
END:VEVENT
BEGIN:VEVENT
DTSTART;TZID=Europe/London:20261223T180000
DTEND;TZID=Europe/London:20261223T210000
DTSTAMP:20260423T141606
CREATED:20260403T093217Z
LAST-MODIFIED:20260422T130730Z
UID:10126171-1798048800-1798059600@tillicoultrybaptist.org
SUMMARY:Art evening class (Community event)
DESCRIPTION:
URL:https://tillicoultrybaptist.org/event/art-evening-class-community-event/2026-12-23/
LOCATION:TBC Annexe
CATEGORIES:TBC Annexe
ATTACH;FMTTYPE=image/jpeg:https://tillicoultrybaptist.org/wp-content/uploads/2025-TBC-Web-Event-Art_01.jpg
END:VEVENT
BEGIN:VEVENT
DTSTART;TZID=Europe/London:20261230T180000
DTEND;TZID=Europe/London:20261230T210000
DTSTAMP:20260423T141606
CREATED:20260403T093217Z
LAST-MODIFIED:20260422T130730Z
UID:10126172-1798653600-1798664400@tillicoultrybaptist.org
SUMMARY:Art evening class (Community event)
DESCRIPTION:
URL:https://tillicoultrybaptist.org/event/art-evening-class-community-event/2026-12-30/
LOCATION:TBC Annexe
CATEGORIES:TBC Annexe
ATTACH;FMTTYPE=image/jpeg:https://tillicoultrybaptist.org/wp-content/uploads/2025-TBC-Web-Event-Art_01.jpg
END:VEVENT
BEGIN:VEVENT
DTSTART;TZID=Europe/London:20270106T180000
DTEND;TZID=Europe/London:20270106T210000
DTSTAMP:20260423T141606
CREATED:20260403T093217Z
LAST-MODIFIED:20260422T130730Z
UID:10126173-1799258400-1799269200@tillicoultrybaptist.org
SUMMARY:Art evening class (Community event)
DESCRIPTION:
URL:https://tillicoultrybaptist.org/event/art-evening-class-community-event/2027-01-06/
LOCATION:TBC Annexe
CATEGORIES:TBC Annexe
ATTACH;FMTTYPE=image/jpeg:https://tillicoultrybaptist.org/wp-content/uploads/2025-TBC-Web-Event-Art_01.jpg
END:VEVENT
BEGIN:VEVENT
DTSTART;TZID=Europe/London:20270113T180000
DTEND;TZID=Europe/London:20270113T210000
DTSTAMP:20260423T141606
CREATED:20260403T093217Z
LAST-MODIFIED:20260422T130730Z
UID:10126174-1799863200-1799874000@tillicoultrybaptist.org
SUMMARY:Art evening class (Community event)
DESCRIPTION:
URL:https://tillicoultrybaptist.org/event/art-evening-class-community-event/2027-01-13/
LOCATION:TBC Annexe
CATEGORIES:TBC Annexe
ATTACH;FMTTYPE=image/jpeg:https://tillicoultrybaptist.org/wp-content/uploads/2025-TBC-Web-Event-Art_01.jpg
END:VEVENT
BEGIN:VEVENT
DTSTART;TZID=Europe/London:20270120T180000
DTEND;TZID=Europe/London:20270120T210000
DTSTAMP:20260423T141606
CREATED:20260403T093217Z
LAST-MODIFIED:20260422T130730Z
UID:10126175-1800468000-1800478800@tillicoultrybaptist.org
SUMMARY:Art evening class (Community event)
DESCRIPTION:
URL:https://tillicoultrybaptist.org/event/art-evening-class-community-event/2027-01-20/
LOCATION:TBC Annexe
CATEGORIES:TBC Annexe
ATTACH;FMTTYPE=image/jpeg:https://tillicoultrybaptist.org/wp-content/uploads/2025-TBC-Web-Event-Art_01.jpg
END:VEVENT
BEGIN:VEVENT
DTSTART;TZID=Europe/London:20270127T180000
DTEND;TZID=Europe/London:20270127T210000
DTSTAMP:20260423T141606
CREATED:20260403T093217Z
LAST-MODIFIED:20260422T130730Z
UID:10126176-1801072800-1801083600@tillicoultrybaptist.org
SUMMARY:Art evening class (Community event)
DESCRIPTION:
URL:https://tillicoultrybaptist.org/event/art-evening-class-community-event/2027-01-27/
LOCATION:TBC Annexe
CATEGORIES:TBC Annexe
ATTACH;FMTTYPE=image/jpeg:https://tillicoultrybaptist.org/wp-content/uploads/2025-TBC-Web-Event-Art_01.jpg
END:VEVENT
BEGIN:VEVENT
DTSTART;TZID=Europe/London:20270203T180000
DTEND;TZID=Europe/London:20270203T210000
DTSTAMP:20260423T141606
CREATED:20260403T093217Z
LAST-MODIFIED:20260422T130730Z
UID:10126177-1801677600-1801688400@tillicoultrybaptist.org
SUMMARY:Art evening class (Community event)
DESCRIPTION:
URL:https://tillicoultrybaptist.org/event/art-evening-class-community-event/2027-02-03/
LOCATION:TBC Annexe
CATEGORIES:TBC Annexe
ATTACH;FMTTYPE=image/jpeg:https://tillicoultrybaptist.org/wp-content/uploads/2025-TBC-Web-Event-Art_01.jpg
END:VEVENT
BEGIN:VEVENT
DTSTART;TZID=Europe/London:20270210T180000
DTEND;TZID=Europe/London:20270210T210000
DTSTAMP:20260423T141606
CREATED:20260403T093217Z
LAST-MODIFIED:20260422T130730Z
UID:10126178-1802282400-1802293200@tillicoultrybaptist.org
SUMMARY:Art evening class (Community event)
DESCRIPTION:
URL:https://tillicoultrybaptist.org/event/art-evening-class-community-event/2027-02-10/
LOCATION:TBC Annexe
CATEGORIES:TBC Annexe
ATTACH;FMTTYPE=image/jpeg:https://tillicoultrybaptist.org/wp-content/uploads/2025-TBC-Web-Event-Art_01.jpg
END:VEVENT
BEGIN:VEVENT
DTSTART;TZID=Europe/London:20270217T180000
DTEND;TZID=Europe/London:20270217T210000
DTSTAMP:20260423T141606
CREATED:20260403T093217Z
LAST-MODIFIED:20260422T130730Z
UID:10126179-1802887200-1802898000@tillicoultrybaptist.org
SUMMARY:Art evening class (Community event)
DESCRIPTION:
URL:https://tillicoultrybaptist.org/event/art-evening-class-community-event/2027-02-17/
LOCATION:TBC Annexe
CATEGORIES:TBC Annexe
ATTACH;FMTTYPE=image/jpeg:https://tillicoultrybaptist.org/wp-content/uploads/2025-TBC-Web-Event-Art_01.jpg
END:VEVENT
BEGIN:VEVENT
DTSTART;TZID=Europe/London:20270224T180000
DTEND;TZID=Europe/London:20270224T210000
DTSTAMP:20260423T141606
CREATED:20260403T093217Z
LAST-MODIFIED:20260422T130730Z
UID:10126180-1803492000-1803502800@tillicoultrybaptist.org
SUMMARY:Art evening class (Community event)
DESCRIPTION:
URL:https://tillicoultrybaptist.org/event/art-evening-class-community-event/2027-02-24/
LOCATION:TBC Annexe
CATEGORIES:TBC Annexe
ATTACH;FMTTYPE=image/jpeg:https://tillicoultrybaptist.org/wp-content/uploads/2025-TBC-Web-Event-Art_01.jpg
END:VEVENT
BEGIN:VEVENT
DTSTART;TZID=Europe/London:20270303T180000
DTEND;TZID=Europe/London:20270303T210000
DTSTAMP:20260423T141606
CREATED:20260403T093217Z
LAST-MODIFIED:20260422T130730Z
UID:10126181-1804096800-1804107600@tillicoultrybaptist.org
SUMMARY:Art evening class (Community event)
DESCRIPTION:
URL:https://tillicoultrybaptist.org/event/art-evening-class-community-event/2027-03-03/
LOCATION:TBC Annexe
CATEGORIES:TBC Annexe
ATTACH;FMTTYPE=image/jpeg:https://tillicoultrybaptist.org/wp-content/uploads/2025-TBC-Web-Event-Art_01.jpg
END:VEVENT
BEGIN:VEVENT
DTSTART;TZID=Europe/London:20270310T180000
DTEND;TZID=Europe/London:20270310T210000
DTSTAMP:20260423T141606
CREATED:20260403T093217Z
LAST-MODIFIED:20260422T130730Z
UID:10126182-1804701600-1804712400@tillicoultrybaptist.org
SUMMARY:Art evening class (Community event)
DESCRIPTION:
URL:https://tillicoultrybaptist.org/event/art-evening-class-community-event/2027-03-10/
LOCATION:TBC Annexe
CATEGORIES:TBC Annexe
ATTACH;FMTTYPE=image/jpeg:https://tillicoultrybaptist.org/wp-content/uploads/2025-TBC-Web-Event-Art_01.jpg
END:VEVENT
BEGIN:VEVENT
DTSTART;TZID=Europe/London:20270317T180000
DTEND;TZID=Europe/London:20270317T210000
DTSTAMP:20260423T141606
CREATED:20260403T093217Z
LAST-MODIFIED:20260422T130730Z
UID:10126183-1805306400-1805317200@tillicoultrybaptist.org
SUMMARY:Art evening class (Community event)
DESCRIPTION:
URL:https://tillicoultrybaptist.org/event/art-evening-class-community-event/2027-03-17/
LOCATION:TBC Annexe
CATEGORIES:TBC Annexe
ATTACH;FMTTYPE=image/jpeg:https://tillicoultrybaptist.org/wp-content/uploads/2025-TBC-Web-Event-Art_01.jpg
END:VEVENT
END:VCALENDAR