BEGIN:VCALENDAR
VERSION:2.0
PRODID:-//Tillicoultry Baptist Online - ECPv6.15.20//NONSGML v1.0//EN
CALSCALE:GREGORIAN
METHOD:PUBLISH
X-ORIGINAL-URL:https://tillicoultrybaptist.org
X-WR-CALDESC:Events for Tillicoultry Baptist Online
REFRESH-INTERVAL;VALUE=DURATION:PT1H
X-Robots-Tag:noindex
X-PUBLISHED-TTL:PT1H
BEGIN:VTIMEZONE
TZID:Europe/London
BEGIN:DAYLIGHT
TZOFFSETFROM:+0000
TZOFFSETTO:+0100
TZNAME:BST
DTSTART:20220327T010000
END:DAYLIGHT
BEGIN:STANDARD
TZOFFSETFROM:+0100
TZOFFSETTO:+0000
TZNAME:GMT
DTSTART:20221030T010000
END:STANDARD
BEGIN:DAYLIGHT
TZOFFSETFROM:+0000
TZOFFSETTO:+0100
TZNAME:BST
DTSTART:20230326T010000
END:DAYLIGHT
BEGIN:STANDARD
TZOFFSETFROM:+0100
TZOFFSETTO:+0000
TZNAME:GMT
DTSTART:20231029T010000
END:STANDARD
BEGIN:DAYLIGHT
TZOFFSETFROM:+0000
TZOFFSETTO:+0100
TZNAME:BST
DTSTART:20240331T010000
END:DAYLIGHT
BEGIN:STANDARD
TZOFFSETFROM:+0100
TZOFFSETTO:+0000
TZNAME:GMT
DTSTART:20241027T010000
END:STANDARD
BEGIN:DAYLIGHT
TZOFFSETFROM:+0000
TZOFFSETTO:+0100
TZNAME:BST
DTSTART:20250330T010000
END:DAYLIGHT
BEGIN:STANDARD
TZOFFSETFROM:+0100
TZOFFSETTO:+0000
TZNAME:GMT
DTSTART:20251026T010000
END:STANDARD
BEGIN:DAYLIGHT
TZOFFSETFROM:+0000
TZOFFSETTO:+0100
TZNAME:BST
DTSTART:20260329T010000
END:DAYLIGHT
BEGIN:STANDARD
TZOFFSETFROM:+0100
TZOFFSETTO:+0000
TZNAME:GMT
DTSTART:20261025T010000
END:STANDARD
END:VTIMEZONE
BEGIN:VEVENT
DTSTART;TZID=Europe/London:20250608T123000
DTEND;TZID=Europe/London:20250608T133000
DTSTAMP:20260420T175246
CREATED:20230613T113533Z
LAST-MODIFIED:20260101T222920Z
UID:10103066-1749385800-1749389400@tillicoultrybaptist.org
SUMMARY:Fellowship lunch
DESCRIPTION:
URL:https://tillicoultrybaptist.org/event/fellowship-lunch-2/2025-06-08/
CATEGORIES:TBC Church Sanctuary
ATTACH;FMTTYPE=image/jpeg:https://tillicoultrybaptist.org/wp-content/uploads/2025-TBC-Web-Event-Plates_01.jpg
END:VEVENT
BEGIN:VEVENT
DTSTART;TZID=Europe/London:20250511T123000
DTEND;TZID=Europe/London:20250511T133000
DTSTAMP:20260420T175246
CREATED:20230613T113533Z
LAST-MODIFIED:20260101T222920Z
UID:10103065-1746966600-1746970200@tillicoultrybaptist.org
SUMMARY:Fellowship lunch
DESCRIPTION:
URL:https://tillicoultrybaptist.org/event/fellowship-lunch-2/2025-05-11/
CATEGORIES:TBC Church Sanctuary
ATTACH;FMTTYPE=image/jpeg:https://tillicoultrybaptist.org/wp-content/uploads/2025-TBC-Web-Event-Plates_01.jpg
END:VEVENT
BEGIN:VEVENT
DTSTART;TZID=Europe/London:20250413T123000
DTEND;TZID=Europe/London:20250413T133000
DTSTAMP:20260420T175246
CREATED:20230613T113533Z
LAST-MODIFIED:20260101T222920Z
UID:10102999-1744547400-1744551000@tillicoultrybaptist.org
SUMMARY:Fellowship lunch
DESCRIPTION:
URL:https://tillicoultrybaptist.org/event/fellowship-lunch-2/2025-04-13/
CATEGORIES:TBC Church Sanctuary
ATTACH;FMTTYPE=image/jpeg:https://tillicoultrybaptist.org/wp-content/uploads/2025-TBC-Web-Event-Plates_01.jpg
END:VEVENT
BEGIN:VEVENT
DTSTART;TZID=Europe/London:20250309T123000
DTEND;TZID=Europe/London:20250309T133000
DTSTAMP:20260420T175246
CREATED:20230613T113533Z
LAST-MODIFIED:20260101T222920Z
UID:10103064-1741523400-1741527000@tillicoultrybaptist.org
SUMMARY:Fellowship lunch
DESCRIPTION:
URL:https://tillicoultrybaptist.org/event/fellowship-lunch-2/2025-03-09/
CATEGORIES:TBC Church Sanctuary
ATTACH;FMTTYPE=image/jpeg:https://tillicoultrybaptist.org/wp-content/uploads/2025-TBC-Web-Event-Plates_01.jpg
END:VEVENT
BEGIN:VEVENT
DTSTART;TZID=Europe/London:20250209T123000
DTEND;TZID=Europe/London:20250209T133000
DTSTAMP:20260420T175246
CREATED:20230613T113533Z
LAST-MODIFIED:20260101T222920Z
UID:10103063-1739104200-1739107800@tillicoultrybaptist.org
SUMMARY:Fellowship lunch
DESCRIPTION:
URL:https://tillicoultrybaptist.org/event/fellowship-lunch-2/2025-02-09/
CATEGORIES:TBC Church Sanctuary
ATTACH;FMTTYPE=image/jpeg:https://tillicoultrybaptist.org/wp-content/uploads/2025-TBC-Web-Event-Plates_01.jpg
END:VEVENT
BEGIN:VEVENT
DTSTART;TZID=Europe/London:20250112T123000
DTEND;TZID=Europe/London:20250112T133000
DTSTAMP:20260420T175246
CREATED:20230613T113533Z
LAST-MODIFIED:20260101T222920Z
UID:10103062-1736685000-1736688600@tillicoultrybaptist.org
SUMMARY:Fellowship lunch
DESCRIPTION:
URL:https://tillicoultrybaptist.org/event/fellowship-lunch-2/2025-01-12/
CATEGORIES:TBC Church Sanctuary
ATTACH;FMTTYPE=image/jpeg:https://tillicoultrybaptist.org/wp-content/uploads/2025-TBC-Web-Event-Plates_01.jpg
END:VEVENT
BEGIN:VEVENT
DTSTART;TZID=Europe/London:20241208T123000
DTEND;TZID=Europe/London:20241208T133000
DTSTAMP:20260420T175246
CREATED:20230613T113533Z
LAST-MODIFIED:20260101T222920Z
UID:10103061-1733661000-1733664600@tillicoultrybaptist.org
SUMMARY:Fellowship lunch
DESCRIPTION:
URL:https://tillicoultrybaptist.org/event/fellowship-lunch-2/2024-12-08/
CATEGORIES:TBC Church Sanctuary
ATTACH;FMTTYPE=image/jpeg:https://tillicoultrybaptist.org/wp-content/uploads/2025-TBC-Web-Event-Plates_01.jpg
END:VEVENT
BEGIN:VEVENT
DTSTART;TZID=Europe/London:20241110T123000
DTEND;TZID=Europe/London:20241110T133000
DTSTAMP:20260420T175246
CREATED:20230613T113533Z
LAST-MODIFIED:20260101T222920Z
UID:10103060-1731241800-1731245400@tillicoultrybaptist.org
SUMMARY:Fellowship lunch
DESCRIPTION:
URL:https://tillicoultrybaptist.org/event/fellowship-lunch-2/2024-11-10/
CATEGORIES:TBC Church Sanctuary
ATTACH;FMTTYPE=image/jpeg:https://tillicoultrybaptist.org/wp-content/uploads/2025-TBC-Web-Event-Plates_01.jpg
END:VEVENT
BEGIN:VEVENT
DTSTART;TZID=Europe/London:20241013T123000
DTEND;TZID=Europe/London:20241013T133000
DTSTAMP:20260420T175246
CREATED:20230613T113533Z
LAST-MODIFIED:20260101T222920Z
UID:10102993-1728822600-1728826200@tillicoultrybaptist.org
SUMMARY:Fellowship lunch
DESCRIPTION:
URL:https://tillicoultrybaptist.org/event/fellowship-lunch-2/2024-10-13/
CATEGORIES:TBC Church Sanctuary
ATTACH;FMTTYPE=image/jpeg:https://tillicoultrybaptist.org/wp-content/uploads/2025-TBC-Web-Event-Plates_01.jpg
END:VEVENT
BEGIN:VEVENT
DTSTART;TZID=Europe/London:20240908T123000
DTEND;TZID=Europe/London:20240908T133000
DTSTAMP:20260420T175246
CREATED:20230613T113533Z
LAST-MODIFIED:20260101T222920Z
UID:10103059-1725798600-1725802200@tillicoultrybaptist.org
SUMMARY:Fellowship lunch
DESCRIPTION:
URL:https://tillicoultrybaptist.org/event/fellowship-lunch-2/2024-09-08/
CATEGORIES:TBC Church Sanctuary
ATTACH;FMTTYPE=image/jpeg:https://tillicoultrybaptist.org/wp-content/uploads/2025-TBC-Web-Event-Plates_01.jpg
END:VEVENT
BEGIN:VEVENT
DTSTART;TZID=Europe/London:20240811T123000
DTEND;TZID=Europe/London:20240811T133000
DTSTAMP:20260420T175246
CREATED:20230613T113533Z
LAST-MODIFIED:20260101T222920Z
UID:10103058-1723379400-1723383000@tillicoultrybaptist.org
SUMMARY:Fellowship lunch
DESCRIPTION:
URL:https://tillicoultrybaptist.org/event/fellowship-lunch-2/2024-08-11/
CATEGORIES:TBC Church Sanctuary
ATTACH;FMTTYPE=image/jpeg:https://tillicoultrybaptist.org/wp-content/uploads/2025-TBC-Web-Event-Plates_01.jpg
END:VEVENT
BEGIN:VEVENT
DTSTART;TZID=Europe/London:20240714T123000
DTEND;TZID=Europe/London:20240714T133000
DTSTAMP:20260420T175246
CREATED:20230613T113533Z
LAST-MODIFIED:20260101T222920Z
UID:10103057-1720960200-1720963800@tillicoultrybaptist.org
SUMMARY:Fellowship lunch
DESCRIPTION:
URL:https://tillicoultrybaptist.org/event/fellowship-lunch-2/2024-07-14/
CATEGORIES:TBC Church Sanctuary
ATTACH;FMTTYPE=image/jpeg:https://tillicoultrybaptist.org/wp-content/uploads/2025-TBC-Web-Event-Plates_01.jpg
END:VEVENT
BEGIN:VEVENT
DTSTART;TZID=Europe/London:20240611T123000
DTEND;TZID=Europe/London:20240611T133000
DTSTAMP:20260420T175246
CREATED:20230613T113652Z
LAST-MODIFIED:20230613T113653Z
UID:10103098-1718109000-1718112600@tillicoultrybaptist.org
SUMMARY:Fellowship lunch
DESCRIPTION:
URL:https://tillicoultrybaptist.org/event/fellowship-lunch-3-2/2024-06-11/
CATEGORIES:TBC Church Sanctuary
END:VEVENT
BEGIN:VEVENT
DTSTART;TZID=Europe/London:20240609T123000
DTEND;TZID=Europe/London:20240609T133000
DTSTAMP:20260420T175246
CREATED:20230613T113533Z
LAST-MODIFIED:20260101T222920Z
UID:10103056-1717936200-1717939800@tillicoultrybaptist.org
SUMMARY:Fellowship lunch
DESCRIPTION:
URL:https://tillicoultrybaptist.org/event/fellowship-lunch-2/2024-06-09/
CATEGORIES:TBC Church Sanctuary
ATTACH;FMTTYPE=image/jpeg:https://tillicoultrybaptist.org/wp-content/uploads/2025-TBC-Web-Event-Plates_01.jpg
END:VEVENT
BEGIN:VEVENT
DTSTART;TZID=Europe/London:20240512T123000
DTEND;TZID=Europe/London:20240512T133000
DTSTAMP:20260420T175246
CREATED:20230613T113533Z
LAST-MODIFIED:20260101T222920Z
UID:10103055-1715517000-1715520600@tillicoultrybaptist.org
SUMMARY:Fellowship lunch
DESCRIPTION:
URL:https://tillicoultrybaptist.org/event/fellowship-lunch-2/2024-05-12/
CATEGORIES:TBC Church Sanctuary
ATTACH;FMTTYPE=image/jpeg:https://tillicoultrybaptist.org/wp-content/uploads/2025-TBC-Web-Event-Plates_01.jpg
END:VEVENT
BEGIN:VEVENT
DTSTART;TZID=Europe/London:20240414T123000
DTEND;TZID=Europe/London:20240414T133000
DTSTAMP:20260420T175246
CREATED:20230613T113533Z
LAST-MODIFIED:20260101T222920Z
UID:10103054-1713097800-1713101400@tillicoultrybaptist.org
SUMMARY:Fellowship lunch
DESCRIPTION:
URL:https://tillicoultrybaptist.org/event/fellowship-lunch-2/2024-04-14/
CATEGORIES:TBC Church Sanctuary
ATTACH;FMTTYPE=image/jpeg:https://tillicoultrybaptist.org/wp-content/uploads/2025-TBC-Web-Event-Plates_01.jpg
END:VEVENT
BEGIN:VEVENT
DTSTART;TZID=Europe/London:20240310T123000
DTEND;TZID=Europe/London:20240310T133000
DTSTAMP:20260420T175246
CREATED:20230613T113533Z
LAST-MODIFIED:20260101T222920Z
UID:10103053-1710073800-1710077400@tillicoultrybaptist.org
SUMMARY:Fellowship lunch
DESCRIPTION:
URL:https://tillicoultrybaptist.org/event/fellowship-lunch-2/2024-03-10/
CATEGORIES:TBC Church Sanctuary
ATTACH;FMTTYPE=image/jpeg:https://tillicoultrybaptist.org/wp-content/uploads/2025-TBC-Web-Event-Plates_01.jpg
END:VEVENT
BEGIN:VEVENT
DTSTART;TZID=Europe/London:20240211T123000
DTEND;TZID=Europe/London:20240211T133000
DTSTAMP:20260420T175246
CREATED:20230613T113533Z
LAST-MODIFIED:20260101T222920Z
UID:10103052-1707654600-1707658200@tillicoultrybaptist.org
SUMMARY:Fellowship lunch
DESCRIPTION:
URL:https://tillicoultrybaptist.org/event/fellowship-lunch-2/2024-02-11/
CATEGORIES:TBC Church Sanctuary
ATTACH;FMTTYPE=image/jpeg:https://tillicoultrybaptist.org/wp-content/uploads/2025-TBC-Web-Event-Plates_01.jpg
END:VEVENT
BEGIN:VEVENT
DTSTART;TZID=Europe/London:20240114T123000
DTEND;TZID=Europe/London:20240114T133000
DTSTAMP:20260420T175246
CREATED:20230613T113533Z
LAST-MODIFIED:20260101T222920Z
UID:10103051-1705235400-1705239000@tillicoultrybaptist.org
SUMMARY:Fellowship lunch
DESCRIPTION:
URL:https://tillicoultrybaptist.org/event/fellowship-lunch-2/2024-01-14/
CATEGORIES:TBC Church Sanctuary
ATTACH;FMTTYPE=image/jpeg:https://tillicoultrybaptist.org/wp-content/uploads/2025-TBC-Web-Event-Plates_01.jpg
END:VEVENT
BEGIN:VEVENT
DTSTART;TZID=Europe/London:20231210T123000
DTEND;TZID=Europe/London:20231210T133000
DTSTAMP:20260420T175246
CREATED:20230613T113533Z
LAST-MODIFIED:20260101T222920Z
UID:10103050-1702211400-1702215000@tillicoultrybaptist.org
SUMMARY:Fellowship lunch
DESCRIPTION:
URL:https://tillicoultrybaptist.org/event/fellowship-lunch-2/2023-12-10/
CATEGORIES:TBC Church Sanctuary
ATTACH;FMTTYPE=image/jpeg:https://tillicoultrybaptist.org/wp-content/uploads/2025-TBC-Web-Event-Plates_01.jpg
END:VEVENT
BEGIN:VEVENT
DTSTART;TZID=Europe/London:20231112T123000
DTEND;TZID=Europe/London:20231112T133000
DTSTAMP:20260420T175246
CREATED:20230613T113533Z
LAST-MODIFIED:20260101T222920Z
UID:10103049-1699792200-1699795800@tillicoultrybaptist.org
SUMMARY:Fellowship lunch
DESCRIPTION:
URL:https://tillicoultrybaptist.org/event/fellowship-lunch-2/2023-11-12/
CATEGORIES:TBC Church Sanctuary
ATTACH;FMTTYPE=image/jpeg:https://tillicoultrybaptist.org/wp-content/uploads/2025-TBC-Web-Event-Plates_01.jpg
END:VEVENT
BEGIN:VEVENT
DTSTART;TZID=Europe/London:20231008T123000
DTEND;TZID=Europe/London:20231008T133000
DTSTAMP:20260420T175246
CREATED:20230613T113533Z
LAST-MODIFIED:20260101T222920Z
UID:10103048-1696768200-1696771800@tillicoultrybaptist.org
SUMMARY:Fellowship lunch
DESCRIPTION:
URL:https://tillicoultrybaptist.org/event/fellowship-lunch-2/2023-10-08/
CATEGORIES:TBC Church Sanctuary
ATTACH;FMTTYPE=image/jpeg:https://tillicoultrybaptist.org/wp-content/uploads/2025-TBC-Web-Event-Plates_01.jpg
END:VEVENT
BEGIN:VEVENT
DTSTART;TZID=Europe/London:20230910T123000
DTEND;TZID=Europe/London:20230910T133000
DTSTAMP:20260420T175247
CREATED:20230613T113533Z
LAST-MODIFIED:20260101T222920Z
UID:10103047-1694349000-1694352600@tillicoultrybaptist.org
SUMMARY:Fellowship lunch
DESCRIPTION:
URL:https://tillicoultrybaptist.org/event/fellowship-lunch-2/2023-09-10/
CATEGORIES:TBC Church Sanctuary
ATTACH;FMTTYPE=image/jpeg:https://tillicoultrybaptist.org/wp-content/uploads/2025-TBC-Web-Event-Plates_01.jpg
END:VEVENT
BEGIN:VEVENT
DTSTART;TZID=Europe/London:20230813T123000
DTEND;TZID=Europe/London:20230813T133000
DTSTAMP:20260420T175247
CREATED:20230613T113533Z
LAST-MODIFIED:20260101T222920Z
UID:10102979-1691929800-1691933400@tillicoultrybaptist.org
SUMMARY:Fellowship lunch
DESCRIPTION:
URL:https://tillicoultrybaptist.org/event/fellowship-lunch-2/2023-08-13/
CATEGORIES:TBC Church Sanctuary
ATTACH;FMTTYPE=image/jpeg:https://tillicoultrybaptist.org/wp-content/uploads/2025-TBC-Web-Event-Plates_01.jpg
END:VEVENT
BEGIN:VEVENT
DTSTART;TZID=Europe/London:20230709T123000
DTEND;TZID=Europe/London:20230709T133000
DTSTAMP:20260420T175247
CREATED:20230613T113533Z
LAST-MODIFIED:20260101T222920Z
UID:10103046-1688905800-1688909400@tillicoultrybaptist.org
SUMMARY:Fellowship lunch
DESCRIPTION:
URL:https://tillicoultrybaptist.org/event/fellowship-lunch-2/2023-07-09/
CATEGORIES:TBC Church Sanctuary
ATTACH;FMTTYPE=image/jpeg:https://tillicoultrybaptist.org/wp-content/uploads/2025-TBC-Web-Event-Plates_01.jpg
END:VEVENT
BEGIN:VEVENT
DTSTART;TZID=Europe/London:20230611T123000
DTEND;TZID=Europe/London:20230611T133000
DTSTAMP:20260420T175247
CREATED:20230613T113652Z
LAST-MODIFIED:20230613T113653Z
UID:10101816-1686486600-1686490200@tillicoultrybaptist.org
SUMMARY:Fellowship lunch
DESCRIPTION:
URL:https://tillicoultrybaptist.org/event/fellowship-lunch-3-2/2023-06-11/
CATEGORIES:TBC Church Sanctuary
END:VEVENT
BEGIN:VEVENT
DTSTART;TZID=Europe/London:20230611T123000
DTEND;TZID=Europe/London:20230611T133000
DTSTAMP:20260420T175247
CREATED:20230613T113533Z
LAST-MODIFIED:20260101T222920Z
UID:10103045-1686486600-1686490200@tillicoultrybaptist.org
SUMMARY:Fellowship lunch
DESCRIPTION:
URL:https://tillicoultrybaptist.org/event/fellowship-lunch-2/2023-06-11/
CATEGORIES:TBC Church Sanctuary
ATTACH;FMTTYPE=image/jpeg:https://tillicoultrybaptist.org/wp-content/uploads/2025-TBC-Web-Event-Plates_01.jpg
END:VEVENT
BEGIN:VEVENT
DTSTART;TZID=Europe/London:20230514T123000
DTEND;TZID=Europe/London:20230514T133000
DTSTAMP:20260420T175247
CREATED:20230613T113533Z
LAST-MODIFIED:20260101T222920Z
UID:10103044-1684067400-1684071000@tillicoultrybaptist.org
SUMMARY:Fellowship lunch
DESCRIPTION:
URL:https://tillicoultrybaptist.org/event/fellowship-lunch-2/2023-05-14/
CATEGORIES:TBC Church Sanctuary
ATTACH;FMTTYPE=image/jpeg:https://tillicoultrybaptist.org/wp-content/uploads/2025-TBC-Web-Event-Plates_01.jpg
END:VEVENT
BEGIN:VEVENT
DTSTART;TZID=Europe/London:20230409T123000
DTEND;TZID=Europe/London:20230409T133000
DTSTAMP:20260420T175247
CREATED:20230613T113533Z
LAST-MODIFIED:20260101T222920Z
UID:10103043-1681043400-1681047000@tillicoultrybaptist.org
SUMMARY:Fellowship lunch
DESCRIPTION:
URL:https://tillicoultrybaptist.org/event/fellowship-lunch-2/2023-04-09/
CATEGORIES:TBC Church Sanctuary
ATTACH;FMTTYPE=image/jpeg:https://tillicoultrybaptist.org/wp-content/uploads/2025-TBC-Web-Event-Plates_01.jpg
END:VEVENT
BEGIN:VEVENT
DTSTART;TZID=Europe/London:20230312T123000
DTEND;TZID=Europe/London:20230312T133000
DTSTAMP:20260420T175247
CREATED:20230613T113533Z
LAST-MODIFIED:20260101T222920Z
UID:10103042-1678624200-1678627800@tillicoultrybaptist.org
SUMMARY:Fellowship lunch
DESCRIPTION:
URL:https://tillicoultrybaptist.org/event/fellowship-lunch-2/2023-03-12/
CATEGORIES:TBC Church Sanctuary
ATTACH;FMTTYPE=image/jpeg:https://tillicoultrybaptist.org/wp-content/uploads/2025-TBC-Web-Event-Plates_01.jpg
END:VEVENT
END:VCALENDAR