BEGIN:VCALENDAR
VERSION:2.0
PRODID:-//Tillicoultry Baptist Online - ECPv6.15.20//NONSGML v1.0//EN
CALSCALE:GREGORIAN
METHOD:PUBLISH
X-WR-CALNAME:Tillicoultry Baptist Online
X-ORIGINAL-URL:https://tillicoultrybaptist.org
X-WR-CALDESC:Events for Tillicoultry Baptist Online
REFRESH-INTERVAL;VALUE=DURATION:PT1H
X-Robots-Tag:noindex
X-PUBLISHED-TTL:PT1H
BEGIN:VTIMEZONE
TZID:Europe/London
BEGIN:DAYLIGHT
TZOFFSETFROM:+0000
TZOFFSETTO:+0100
TZNAME:BST
DTSTART:20260329T010000
END:DAYLIGHT
BEGIN:STANDARD
TZOFFSETFROM:+0100
TZOFFSETTO:+0000
TZNAME:GMT
DTSTART:20261025T010000
END:STANDARD
BEGIN:DAYLIGHT
TZOFFSETFROM:+0000
TZOFFSETTO:+0100
TZNAME:BST
DTSTART:20270328T010000
END:DAYLIGHT
BEGIN:STANDARD
TZOFFSETFROM:+0100
TZOFFSETTO:+0000
TZNAME:GMT
DTSTART:20271031T010000
END:STANDARD
BEGIN:DAYLIGHT
TZOFFSETFROM:+0000
TZOFFSETTO:+0100
TZNAME:BST
DTSTART:20280326T010000
END:DAYLIGHT
BEGIN:STANDARD
TZOFFSETFROM:+0100
TZOFFSETTO:+0000
TZNAME:GMT
DTSTART:20281029T010000
END:STANDARD
BEGIN:DAYLIGHT
TZOFFSETFROM:+0000
TZOFFSETTO:+0100
TZNAME:BST
DTSTART:20290325T010000
END:DAYLIGHT
BEGIN:STANDARD
TZOFFSETFROM:+0100
TZOFFSETTO:+0000
TZNAME:GMT
DTSTART:20291028T010000
END:STANDARD
BEGIN:DAYLIGHT
TZOFFSETFROM:+0000
TZOFFSETTO:+0100
TZNAME:BST
DTSTART:20300331T010000
END:DAYLIGHT
BEGIN:STANDARD
TZOFFSETFROM:+0100
TZOFFSETTO:+0000
TZNAME:GMT
DTSTART:20301027T010000
END:STANDARD
BEGIN:DAYLIGHT
TZOFFSETFROM:+0000
TZOFFSETTO:+0100
TZNAME:BST
DTSTART:20310330T010000
END:DAYLIGHT
BEGIN:STANDARD
TZOFFSETFROM:+0100
TZOFFSETTO:+0000
TZNAME:GMT
DTSTART:20311026T010000
END:STANDARD
END:VTIMEZONE
BEGIN:VEVENT
DTSTART;TZID=Europe/London:20271114T123000
DTEND;TZID=Europe/London:20271114T133000
DTSTAMP:20260420T221306
CREATED:20230613T113533Z
LAST-MODIFIED:20260101T222920Z
UID:10103091-1826195400-1826199000@tillicoultrybaptist.org
SUMMARY:Fellowship lunch
DESCRIPTION:
URL:https://tillicoultrybaptist.org/event/fellowship-lunch-2/2027-11-14/
CATEGORIES:TBC Church Sanctuary
ATTACH;FMTTYPE=image/jpeg:https://tillicoultrybaptist.org/wp-content/uploads/2025-TBC-Web-Event-Plates_01.jpg
END:VEVENT
BEGIN:VEVENT
DTSTART;TZID=Europe/London:20271212T123000
DTEND;TZID=Europe/London:20271212T133000
DTSTAMP:20260420T221306
CREATED:20230613T113533Z
LAST-MODIFIED:20260101T222920Z
UID:10103092-1828614600-1828618200@tillicoultrybaptist.org
SUMMARY:Fellowship lunch
DESCRIPTION:
URL:https://tillicoultrybaptist.org/event/fellowship-lunch-2/2027-12-12/
CATEGORIES:TBC Church Sanctuary
ATTACH;FMTTYPE=image/jpeg:https://tillicoultrybaptist.org/wp-content/uploads/2025-TBC-Web-Event-Plates_01.jpg
END:VEVENT
BEGIN:VEVENT
DTSTART;TZID=Europe/London:20280109T123000
DTEND;TZID=Europe/London:20280109T133000
DTSTAMP:20260420T221306
CREATED:20230613T113533Z
LAST-MODIFIED:20260101T222920Z
UID:10103093-1831033800-1831037400@tillicoultrybaptist.org
SUMMARY:Fellowship lunch
DESCRIPTION:
URL:https://tillicoultrybaptist.org/event/fellowship-lunch-2/2028-01-09/
CATEGORIES:TBC Church Sanctuary
ATTACH;FMTTYPE=image/jpeg:https://tillicoultrybaptist.org/wp-content/uploads/2025-TBC-Web-Event-Plates_01.jpg
END:VEVENT
BEGIN:VEVENT
DTSTART;TZID=Europe/London:20280213T123000
DTEND;TZID=Europe/London:20280213T133000
DTSTAMP:20260420T221306
CREATED:20230613T113533Z
LAST-MODIFIED:20260101T222920Z
UID:10103033-1834057800-1834061400@tillicoultrybaptist.org
SUMMARY:Fellowship lunch
DESCRIPTION:
URL:https://tillicoultrybaptist.org/event/fellowship-lunch-2/2028-02-13/
CATEGORIES:TBC Church Sanctuary
ATTACH;FMTTYPE=image/jpeg:https://tillicoultrybaptist.org/wp-content/uploads/2025-TBC-Web-Event-Plates_01.jpg
END:VEVENT
BEGIN:VEVENT
DTSTART;TZID=Europe/London:20280312T123000
DTEND;TZID=Europe/London:20280312T133000
DTSTAMP:20260420T221306
CREATED:20230613T113533Z
LAST-MODIFIED:20260101T222920Z
UID:10103094-1836477000-1836480600@tillicoultrybaptist.org
SUMMARY:Fellowship lunch
DESCRIPTION:
URL:https://tillicoultrybaptist.org/event/fellowship-lunch-2/2028-03-12/
CATEGORIES:TBC Church Sanctuary
ATTACH;FMTTYPE=image/jpeg:https://tillicoultrybaptist.org/wp-content/uploads/2025-TBC-Web-Event-Plates_01.jpg
END:VEVENT
BEGIN:VEVENT
DTSTART;TZID=Europe/London:20280409T123000
DTEND;TZID=Europe/London:20280409T133000
DTSTAMP:20260420T221306
CREATED:20230613T113533Z
LAST-MODIFIED:20260101T222920Z
UID:10103095-1838896200-1838899800@tillicoultrybaptist.org
SUMMARY:Fellowship lunch
DESCRIPTION:
URL:https://tillicoultrybaptist.org/event/fellowship-lunch-2/2028-04-09/
CATEGORIES:TBC Church Sanctuary
ATTACH;FMTTYPE=image/jpeg:https://tillicoultrybaptist.org/wp-content/uploads/2025-TBC-Web-Event-Plates_01.jpg
END:VEVENT
BEGIN:VEVENT
DTSTART;TZID=Europe/London:20280514T123000
DTEND;TZID=Europe/London:20280514T133000
DTSTAMP:20260420T221306
CREATED:20230613T113533Z
LAST-MODIFIED:20260101T222920Z
UID:10103096-1841920200-1841923800@tillicoultrybaptist.org
SUMMARY:Fellowship lunch
DESCRIPTION:
URL:https://tillicoultrybaptist.org/event/fellowship-lunch-2/2028-05-14/
CATEGORIES:TBC Church Sanctuary
ATTACH;FMTTYPE=image/jpeg:https://tillicoultrybaptist.org/wp-content/uploads/2025-TBC-Web-Event-Plates_01.jpg
END:VEVENT
BEGIN:VEVENT
DTSTART;TZID=Europe/London:20280611T123000
DTEND;TZID=Europe/London:20280611T133000
DTSTAMP:20260420T221306
CREATED:20230613T113533Z
LAST-MODIFIED:20260101T222920Z
UID:10103097-1844339400-1844343000@tillicoultrybaptist.org
SUMMARY:Fellowship lunch
DESCRIPTION:
URL:https://tillicoultrybaptist.org/event/fellowship-lunch-2/2028-06-11/
CATEGORIES:TBC Church Sanctuary
ATTACH;FMTTYPE=image/jpeg:https://tillicoultrybaptist.org/wp-content/uploads/2025-TBC-Web-Event-Plates_01.jpg
END:VEVENT
BEGIN:VEVENT
DTSTART;TZID=Europe/London:20280611T123000
DTEND;TZID=Europe/London:20280611T133000
DTSTAMP:20260420T221306
CREATED:20230613T113652Z
LAST-MODIFIED:20230613T113653Z
UID:10103102-1844339400-1844343000@tillicoultrybaptist.org
SUMMARY:Fellowship lunch
DESCRIPTION:
URL:https://tillicoultrybaptist.org/event/fellowship-lunch-3-2/2028-06-11/
CATEGORIES:TBC Church Sanctuary
END:VEVENT
BEGIN:VEVENT
DTSTART;TZID=Europe/London:20280709T123000
DTEND;TZID=Europe/London:20280709T133000
DTSTAMP:20260420T221306
CREATED:20230613T113533Z
LAST-MODIFIED:20260101T222920Z
UID:10120991-1846758600-1846762200@tillicoultrybaptist.org
SUMMARY:Fellowship lunch
DESCRIPTION:
URL:https://tillicoultrybaptist.org/event/fellowship-lunch-2/2028-07-09/
CATEGORIES:TBC Church Sanctuary
ATTACH;FMTTYPE=image/jpeg:https://tillicoultrybaptist.org/wp-content/uploads/2025-TBC-Web-Event-Plates_01.jpg
END:VEVENT
BEGIN:VEVENT
DTSTART;TZID=Europe/London:20280813T123000
DTEND;TZID=Europe/London:20280813T133000
DTSTAMP:20260420T221306
CREATED:20230613T113533Z
LAST-MODIFIED:20260101T222920Z
UID:10120992-1849782600-1849786200@tillicoultrybaptist.org
SUMMARY:Fellowship lunch
DESCRIPTION:
URL:https://tillicoultrybaptist.org/event/fellowship-lunch-2/2028-08-13/
CATEGORIES:TBC Church Sanctuary
ATTACH;FMTTYPE=image/jpeg:https://tillicoultrybaptist.org/wp-content/uploads/2025-TBC-Web-Event-Plates_01.jpg
END:VEVENT
BEGIN:VEVENT
DTSTART;TZID=Europe/London:20280910T123000
DTEND;TZID=Europe/London:20280910T133000
DTSTAMP:20260420T221306
CREATED:20230613T113533Z
LAST-MODIFIED:20260101T222920Z
UID:10120993-1852201800-1852205400@tillicoultrybaptist.org
SUMMARY:Fellowship lunch
DESCRIPTION:
URL:https://tillicoultrybaptist.org/event/fellowship-lunch-2/2028-09-10/
CATEGORIES:TBC Church Sanctuary
ATTACH;FMTTYPE=image/jpeg:https://tillicoultrybaptist.org/wp-content/uploads/2025-TBC-Web-Event-Plates_01.jpg
END:VEVENT
BEGIN:VEVENT
DTSTART;TZID=Europe/London:20281008T123000
DTEND;TZID=Europe/London:20281008T133000
DTSTAMP:20260420T221306
CREATED:20230613T113533Z
LAST-MODIFIED:20260101T222920Z
UID:10120994-1854621000-1854624600@tillicoultrybaptist.org
SUMMARY:Fellowship lunch
DESCRIPTION:
URL:https://tillicoultrybaptist.org/event/fellowship-lunch-2/2028-10-08/
CATEGORIES:TBC Church Sanctuary
ATTACH;FMTTYPE=image/jpeg:https://tillicoultrybaptist.org/wp-content/uploads/2025-TBC-Web-Event-Plates_01.jpg
END:VEVENT
BEGIN:VEVENT
DTSTART;TZID=Europe/London:20281112T123000
DTEND;TZID=Europe/London:20281112T133000
DTSTAMP:20260420T221306
CREATED:20230613T113533Z
LAST-MODIFIED:20260101T222920Z
UID:10120995-1857645000-1857648600@tillicoultrybaptist.org
SUMMARY:Fellowship lunch
DESCRIPTION:
URL:https://tillicoultrybaptist.org/event/fellowship-lunch-2/2028-11-12/
CATEGORIES:TBC Church Sanctuary
ATTACH;FMTTYPE=image/jpeg:https://tillicoultrybaptist.org/wp-content/uploads/2025-TBC-Web-Event-Plates_01.jpg
END:VEVENT
BEGIN:VEVENT
DTSTART;TZID=Europe/London:20281210T123000
DTEND;TZID=Europe/London:20281210T133000
DTSTAMP:20260420T221306
CREATED:20230613T113533Z
LAST-MODIFIED:20260101T222920Z
UID:10120996-1860064200-1860067800@tillicoultrybaptist.org
SUMMARY:Fellowship lunch
DESCRIPTION:
URL:https://tillicoultrybaptist.org/event/fellowship-lunch-2/2028-12-10/
CATEGORIES:TBC Church Sanctuary
ATTACH;FMTTYPE=image/jpeg:https://tillicoultrybaptist.org/wp-content/uploads/2025-TBC-Web-Event-Plates_01.jpg
END:VEVENT
BEGIN:VEVENT
DTSTART;TZID=Europe/London:20290114T123000
DTEND;TZID=Europe/London:20290114T133000
DTSTAMP:20260420T221306
CREATED:20230613T113533Z
LAST-MODIFIED:20260101T222920Z
UID:10120997-1863088200-1863091800@tillicoultrybaptist.org
SUMMARY:Fellowship lunch
DESCRIPTION:
URL:https://tillicoultrybaptist.org/event/fellowship-lunch-2/2029-01-14/
CATEGORIES:TBC Church Sanctuary
ATTACH;FMTTYPE=image/jpeg:https://tillicoultrybaptist.org/wp-content/uploads/2025-TBC-Web-Event-Plates_01.jpg
END:VEVENT
BEGIN:VEVENT
DTSTART;TZID=Europe/London:20290211T123000
DTEND;TZID=Europe/London:20290211T133000
DTSTAMP:20260420T221306
CREATED:20230613T113533Z
LAST-MODIFIED:20260101T222920Z
UID:10120998-1865507400-1865511000@tillicoultrybaptist.org
SUMMARY:Fellowship lunch
DESCRIPTION:
URL:https://tillicoultrybaptist.org/event/fellowship-lunch-2/2029-02-11/
CATEGORIES:TBC Church Sanctuary
ATTACH;FMTTYPE=image/jpeg:https://tillicoultrybaptist.org/wp-content/uploads/2025-TBC-Web-Event-Plates_01.jpg
END:VEVENT
BEGIN:VEVENT
DTSTART;TZID=Europe/London:20290311T123000
DTEND;TZID=Europe/London:20290311T133000
DTSTAMP:20260420T221306
CREATED:20230613T113533Z
LAST-MODIFIED:20260101T222920Z
UID:10120999-1867926600-1867930200@tillicoultrybaptist.org
SUMMARY:Fellowship lunch
DESCRIPTION:
URL:https://tillicoultrybaptist.org/event/fellowship-lunch-2/2029-03-11/
CATEGORIES:TBC Church Sanctuary
ATTACH;FMTTYPE=image/jpeg:https://tillicoultrybaptist.org/wp-content/uploads/2025-TBC-Web-Event-Plates_01.jpg
END:VEVENT
BEGIN:VEVENT
DTSTART;TZID=Europe/London:20290408T123000
DTEND;TZID=Europe/London:20290408T133000
DTSTAMP:20260420T221306
CREATED:20230613T113533Z
LAST-MODIFIED:20260101T222920Z
UID:10121000-1870345800-1870349400@tillicoultrybaptist.org
SUMMARY:Fellowship lunch
DESCRIPTION:
URL:https://tillicoultrybaptist.org/event/fellowship-lunch-2/2029-04-08/
CATEGORIES:TBC Church Sanctuary
ATTACH;FMTTYPE=image/jpeg:https://tillicoultrybaptist.org/wp-content/uploads/2025-TBC-Web-Event-Plates_01.jpg
END:VEVENT
BEGIN:VEVENT
DTSTART;TZID=Europe/London:20290513T123000
DTEND;TZID=Europe/London:20290513T133000
DTSTAMP:20260420T221306
CREATED:20230613T113533Z
LAST-MODIFIED:20260101T222920Z
UID:10121001-1873369800-1873373400@tillicoultrybaptist.org
SUMMARY:Fellowship lunch
DESCRIPTION:
URL:https://tillicoultrybaptist.org/event/fellowship-lunch-2/2029-05-13/
CATEGORIES:TBC Church Sanctuary
ATTACH;FMTTYPE=image/jpeg:https://tillicoultrybaptist.org/wp-content/uploads/2025-TBC-Web-Event-Plates_01.jpg
END:VEVENT
BEGIN:VEVENT
DTSTART;TZID=Europe/London:20290610T123000
DTEND;TZID=Europe/London:20290610T133000
DTSTAMP:20260420T221306
CREATED:20230613T113533Z
LAST-MODIFIED:20260101T222920Z
UID:10121002-1875789000-1875792600@tillicoultrybaptist.org
SUMMARY:Fellowship lunch
DESCRIPTION:
URL:https://tillicoultrybaptist.org/event/fellowship-lunch-2/2029-06-10/
CATEGORIES:TBC Church Sanctuary
ATTACH;FMTTYPE=image/jpeg:https://tillicoultrybaptist.org/wp-content/uploads/2025-TBC-Web-Event-Plates_01.jpg
END:VEVENT
BEGIN:VEVENT
DTSTART;TZID=Europe/London:20290708T123000
DTEND;TZID=Europe/London:20290708T133000
DTSTAMP:20260420T221306
CREATED:20230613T113533Z
LAST-MODIFIED:20260101T222920Z
UID:10121003-1878208200-1878211800@tillicoultrybaptist.org
SUMMARY:Fellowship lunch
DESCRIPTION:
URL:https://tillicoultrybaptist.org/event/fellowship-lunch-2/2029-07-08/
CATEGORIES:TBC Church Sanctuary
ATTACH;FMTTYPE=image/jpeg:https://tillicoultrybaptist.org/wp-content/uploads/2025-TBC-Web-Event-Plates_01.jpg
END:VEVENT
BEGIN:VEVENT
DTSTART;TZID=Europe/London:20290812T123000
DTEND;TZID=Europe/London:20290812T133000
DTSTAMP:20260420T221306
CREATED:20230613T113533Z
LAST-MODIFIED:20260101T222920Z
UID:10121004-1881232200-1881235800@tillicoultrybaptist.org
SUMMARY:Fellowship lunch
DESCRIPTION:
URL:https://tillicoultrybaptist.org/event/fellowship-lunch-2/2029-08-12/
CATEGORIES:TBC Church Sanctuary
ATTACH;FMTTYPE=image/jpeg:https://tillicoultrybaptist.org/wp-content/uploads/2025-TBC-Web-Event-Plates_01.jpg
END:VEVENT
BEGIN:VEVENT
DTSTART;TZID=Europe/London:20290909T123000
DTEND;TZID=Europe/London:20290909T133000
DTSTAMP:20260420T221306
CREATED:20230613T113533Z
LAST-MODIFIED:20260101T222920Z
UID:10121005-1883651400-1883655000@tillicoultrybaptist.org
SUMMARY:Fellowship lunch
DESCRIPTION:
URL:https://tillicoultrybaptist.org/event/fellowship-lunch-2/2029-09-09/
CATEGORIES:TBC Church Sanctuary
ATTACH;FMTTYPE=image/jpeg:https://tillicoultrybaptist.org/wp-content/uploads/2025-TBC-Web-Event-Plates_01.jpg
END:VEVENT
BEGIN:VEVENT
DTSTART;TZID=Europe/London:20291014T123000
DTEND;TZID=Europe/London:20291014T133000
DTSTAMP:20260420T221306
CREATED:20230613T113533Z
LAST-MODIFIED:20260101T222920Z
UID:10121006-1886675400-1886679000@tillicoultrybaptist.org
SUMMARY:Fellowship lunch
DESCRIPTION:
URL:https://tillicoultrybaptist.org/event/fellowship-lunch-2/2029-10-14/
CATEGORIES:TBC Church Sanctuary
ATTACH;FMTTYPE=image/jpeg:https://tillicoultrybaptist.org/wp-content/uploads/2025-TBC-Web-Event-Plates_01.jpg
END:VEVENT
BEGIN:VEVENT
DTSTART;TZID=Europe/London:20291111T123000
DTEND;TZID=Europe/London:20291111T133000
DTSTAMP:20260420T221306
CREATED:20230613T113533Z
LAST-MODIFIED:20260101T222920Z
UID:10121007-1889094600-1889098200@tillicoultrybaptist.org
SUMMARY:Fellowship lunch
DESCRIPTION:
URL:https://tillicoultrybaptist.org/event/fellowship-lunch-2/2029-11-11/
CATEGORIES:TBC Church Sanctuary
ATTACH;FMTTYPE=image/jpeg:https://tillicoultrybaptist.org/wp-content/uploads/2025-TBC-Web-Event-Plates_01.jpg
END:VEVENT
BEGIN:VEVENT
DTSTART;TZID=Europe/London:20291209T123000
DTEND;TZID=Europe/London:20291209T133000
DTSTAMP:20260420T221306
CREATED:20230613T113533Z
LAST-MODIFIED:20260101T222920Z
UID:10121008-1891513800-1891517400@tillicoultrybaptist.org
SUMMARY:Fellowship lunch
DESCRIPTION:
URL:https://tillicoultrybaptist.org/event/fellowship-lunch-2/2029-12-09/
CATEGORIES:TBC Church Sanctuary
ATTACH;FMTTYPE=image/jpeg:https://tillicoultrybaptist.org/wp-content/uploads/2025-TBC-Web-Event-Plates_01.jpg
END:VEVENT
BEGIN:VEVENT
DTSTART;TZID=Europe/London:20300113T123000
DTEND;TZID=Europe/London:20300113T133000
DTSTAMP:20260420T221306
CREATED:20230613T113533Z
LAST-MODIFIED:20260101T222920Z
UID:10121009-1894537800-1894541400@tillicoultrybaptist.org
SUMMARY:Fellowship lunch
DESCRIPTION:
URL:https://tillicoultrybaptist.org/event/fellowship-lunch-2/2030-01-13/
CATEGORIES:TBC Church Sanctuary
ATTACH;FMTTYPE=image/jpeg:https://tillicoultrybaptist.org/wp-content/uploads/2025-TBC-Web-Event-Plates_01.jpg
END:VEVENT
BEGIN:VEVENT
DTSTART;TZID=Europe/London:20300210T123000
DTEND;TZID=Europe/London:20300210T133000
DTSTAMP:20260420T221306
CREATED:20230613T113533Z
LAST-MODIFIED:20260101T222920Z
UID:10121010-1896957000-1896960600@tillicoultrybaptist.org
SUMMARY:Fellowship lunch
DESCRIPTION:
URL:https://tillicoultrybaptist.org/event/fellowship-lunch-2/2030-02-10/
CATEGORIES:TBC Church Sanctuary
ATTACH;FMTTYPE=image/jpeg:https://tillicoultrybaptist.org/wp-content/uploads/2025-TBC-Web-Event-Plates_01.jpg
END:VEVENT
BEGIN:VEVENT
DTSTART;TZID=Europe/London:20300310T123000
DTEND;TZID=Europe/London:20300310T133000
DTSTAMP:20260420T221306
CREATED:20230613T113533Z
LAST-MODIFIED:20260101T222920Z
UID:10121011-1899376200-1899379800@tillicoultrybaptist.org
SUMMARY:Fellowship lunch
DESCRIPTION:
URL:https://tillicoultrybaptist.org/event/fellowship-lunch-2/2030-03-10/
CATEGORIES:TBC Church Sanctuary
ATTACH;FMTTYPE=image/jpeg:https://tillicoultrybaptist.org/wp-content/uploads/2025-TBC-Web-Event-Plates_01.jpg
END:VEVENT
END:VCALENDAR