BEGIN:VCALENDAR
VERSION:2.0
PRODID:-//Tillicoultry Baptist Online - ECPv6.15.20//NONSGML v1.0//EN
CALSCALE:GREGORIAN
METHOD:PUBLISH
X-ORIGINAL-URL:https://tillicoultrybaptist.org
X-WR-CALDESC:Events for Tillicoultry Baptist Online
REFRESH-INTERVAL;VALUE=DURATION:PT1H
X-Robots-Tag:noindex
X-PUBLISHED-TTL:PT1H
BEGIN:VTIMEZONE
TZID:Europe/London
BEGIN:DAYLIGHT
TZOFFSETFROM:+0000
TZOFFSETTO:+0100
TZNAME:BST
DTSTART:20250330T010000
END:DAYLIGHT
BEGIN:STANDARD
TZOFFSETFROM:+0100
TZOFFSETTO:+0000
TZNAME:GMT
DTSTART:20251026T010000
END:STANDARD
BEGIN:DAYLIGHT
TZOFFSETFROM:+0000
TZOFFSETTO:+0100
TZNAME:BST
DTSTART:20260329T010000
END:DAYLIGHT
BEGIN:STANDARD
TZOFFSETFROM:+0100
TZOFFSETTO:+0000
TZNAME:GMT
DTSTART:20261025T010000
END:STANDARD
BEGIN:DAYLIGHT
TZOFFSETFROM:+0000
TZOFFSETTO:+0100
TZNAME:BST
DTSTART:20270328T010000
END:DAYLIGHT
BEGIN:STANDARD
TZOFFSETFROM:+0100
TZOFFSETTO:+0000
TZNAME:GMT
DTSTART:20271031T010000
END:STANDARD
END:VTIMEZONE
BEGIN:VEVENT
DTSTART;TZID=Europe/London:20260210T133000
DTEND;TZID=Europe/London:20260210T150000
DTSTAMP:20260422T145518
CREATED:20260121T150904Z
LAST-MODIFIED:20260121T150904Z
UID:10125005-1770730200-1770735600@tillicoultrybaptist.org
SUMMARY:Cleaning
DESCRIPTION:
URL:https://tillicoultrybaptist.org/event/cleaning-4/2026-02-10/
LOCATION:TBC Annexe
CATEGORIES:TBC Annexe
END:VEVENT
BEGIN:VEVENT
DTSTART;TZID=Europe/London:20260203T133000
DTEND;TZID=Europe/London:20260203T150000
DTSTAMP:20260422T145518
CREATED:20260121T150904Z
LAST-MODIFIED:20260121T150904Z
UID:10125004-1770125400-1770130800@tillicoultrybaptist.org
SUMMARY:Cleaning
DESCRIPTION:
URL:https://tillicoultrybaptist.org/event/cleaning-4/2026-02-03/
LOCATION:TBC Annexe
CATEGORIES:TBC Annexe
END:VEVENT
BEGIN:VEVENT
DTSTART;TZID=Europe/London:20260127T133000
DTEND;TZID=Europe/London:20260127T150000
DTSTAMP:20260422T145518
CREATED:20260121T150904Z
LAST-MODIFIED:20260121T150904Z
UID:10125003-1769520600-1769526000@tillicoultrybaptist.org
SUMMARY:Cleaning
DESCRIPTION:
URL:https://tillicoultrybaptist.org/event/cleaning-4/2026-01-27/
LOCATION:TBC Annexe
CATEGORIES:TBC Annexe
END:VEVENT
END:VCALENDAR